BEGIN:VCALENDAR
VERSION:2.0
PRODID:-//SEF - ECPv6.10.2//NONSGML v1.0//EN
CALSCALE:GREGORIAN
METHOD:PUBLISH
X-ORIGINAL-URL:https://endokrinologforeningen.se
X-WR-CALDESC:Händelser för SEF
REFRESH-INTERVAL;VALUE=DURATION:PT1H
X-Robots-Tag:noindex
X-PUBLISHED-TTL:PT1H
BEGIN:VTIMEZONE
TZID:UTC
BEGIN:STANDARD
TZOFFSETFROM:+0000
TZOFFSETTO:+0000
TZNAME:UTC
DTSTART:20180101T000000
END:STANDARD
END:VTIMEZONE
BEGIN:VEVENT
DTSTART;VALUE=DATE:20190606
DTEND;VALUE=DATE:20190608
DTSTAMP:20260421T112622
CREATED:20190227T085620Z
LAST-MODIFIED:20190227T085620Z
UID:3944-1559779200-1559951999@endokrinologforeningen.se
SUMMARY:Multidisciplinary workshop for pituitary tumour specialists
DESCRIPTION:https://www.pituitarycourse.eu/102575
URL:https://endokrinologforeningen.se/event/multidisciplinary-workshop-for-pituitary-tumour-specialists/
LOCATION:Leiden\, Leiden\, Nederländerna
CATEGORIES:Konferens
END:VEVENT
BEGIN:VEVENT
DTSTART;VALUE=DATE:20190520
DTEND;VALUE=DATE:20190524
DTSTAMP:20260421T112622
CREATED:20181018T074912Z
LAST-MODIFIED:20181018T074943Z
UID:3755-1558310400-1558655999@endokrinologforeningen.se
SUMMARY:Översiktskurs i endokrinologi och diabetologi
DESCRIPTION:Målgrupp: ST-läkare inom internmedicin\, endokrinologi\, allmänmedicin\, akutsjukvård\, kardiologi\, medicinska njursjukdomar samt geriatrik.\nUpplägg: Fokus under kursen ligger på diagnostik\, prevention\, behandling och i synnerhet på den rent praktiska handläggningen av endokrina rubbningar och diabetes. Kursen inkluderar såväl akuta tillstånd som betydelsefull sekundär prevention. Grundstrukturen är före­läsningar med interaktiva och stimulerande fallbeskrivningar. \nhttps://www.lipus.se/kurs/11154/
URL:https://endokrinologforeningen.se/event/oversiktskurs-i-endokrinologi-och-diabetologi/
LOCATION:Akademiska Sjukhuset\, Sjukhusvägen 85\, Uppsala\, 751 85\, Sverige
CATEGORIES:Kurs
END:VEVENT
BEGIN:VEVENT
DTSTART;VALUE=DATE:20190518
DTEND;VALUE=DATE:20190522
DTSTAMP:20260421T112622
CREATED:20181018T064850Z
LAST-MODIFIED:20181018T064850Z
UID:3749-1558137600-1558483199@endokrinologforeningen.se
SUMMARY:European Congress of Endocrinology
DESCRIPTION:Mer information: https://www.ese-hormones.org/events-deadlines/ese-events/21st-european-congress-of-endocrinology/
URL:https://endokrinologforeningen.se/event/european-congress-of-endocrinology/
LOCATION:Lyon\, Frankrike\, Lyon\, Frankrike
CATEGORIES:Konferens
END:VEVENT
BEGIN:VEVENT
DTSTART;VALUE=DATE:20190506
DTEND;VALUE=DATE:20190507
DTSTAMP:20260421T112622
CREATED:20181029T091224Z
LAST-MODIFIED:20181029T091224Z
UID:3822-1557100800-1557187199@endokrinologforeningen.se
SUMMARY:Endokrina folksjukdomar: diabetes\, tyreoidea\, paratyreoidea och osteoporos
DESCRIPTION:https://utbildning.socialstyrelsen.se/enrol/index.php?id=642
URL:https://endokrinologforeningen.se/event/endokrina-folksjukdomar-diabetes-tyreoidea-paratyreoidea-och-osteoporos-2/
LOCATION:Karolinska institutet\, Stockholm\, Sverige
CATEGORIES:Kurs
END:VEVENT
BEGIN:VEVENT
DTSTART;VALUE=DATE:20190323
DTEND;VALUE=DATE:20190327
DTSTAMP:20260421T112622
CREATED:20180607T102229Z
LAST-MODIFIED:20190102T122817Z
UID:3636-1553299200-1553644799@endokrinologforeningen.se
SUMMARY:ENDO - Endocrine Society Annual Meeting
DESCRIPTION:https://www.endocrine.org/endo2019
URL:https://endokrinologforeningen.se/event/endo-endocrine-society-annual-meeting/
LOCATION:New Orleans\, New Orleans\, Förenta Staterna\, USA
CATEGORIES:Konferens
END:VEVENT
BEGIN:VEVENT
DTSTART;VALUE=DATE:20190307
DTEND;VALUE=DATE:20190311
DTSTAMP:20260421T112622
CREATED:20190123T083807Z
LAST-MODIFIED:20190123T083807Z
UID:3911-1551916800-1552262399@endokrinologforeningen.se
SUMMARY:ESE Postgraduate Course in Clinical Endocrinology\, Diabetes and Metabolism
DESCRIPTION:Kursavgift €300 (€200 för ESE members)\n\nhttps://www.ese-hormones.org/events-deadlines/ese-events/24th-ese-postgraduate-training-course-on-endocrinology-diabetes-and-metabolism/
URL:https://endokrinologforeningen.se/event/ese-postgraduate-course-in-clinical-endocrinology-diabetes-and-metabolism/
LOCATION:Bled\, Slovenia\, Bled\, Slovenien
CATEGORIES:Konferens
END:VEVENT
BEGIN:VEVENT
DTSTART;TZID=UTC:20190211T080000
DTEND;TZID=UTC:20190215T170000
DTSTAMP:20260421T112622
CREATED:20180608T093036Z
LAST-MODIFIED:20180608T093036Z
UID:3677-1549872000-1550250000@endokrinologforeningen.se
SUMMARY:Mayo Clinic School of Continuous Professional Development
DESCRIPTION:Designed for endocrinologists and interested internists and surgeons\, this course addresses gaps in medical knowledge and barriers in clinical practice to improve the outcomes of patients with endocrine and metabolic disorders.
URL:https://endokrinologforeningen.se/event/mayo-clinic-school-of-continuous-professional-development/
LOCATION:Big Island\, Hawaii\, 1 N Kaniku Drive\, Kohala Coast\, Big Island\, HI\, 96743\, Förenta Staterna\, USA
CATEGORIES:Kurs
END:VEVENT
BEGIN:VEVENT
DTSTART;VALUE=DATE:20190201
DTEND;VALUE=DATE:20190202
DTSTAMP:20260421T112622
CREATED:20181203T140022Z
LAST-MODIFIED:20181203T140022Z
UID:3870-1548979200-1549065599@endokrinologforeningen.se
SUMMARY:Ansökan om Svenska Läkaresällskapets Forskningsmedel
DESCRIPTION:https://www.sls.se/vetenskap/aktuella-utlysningar/
URL:https://endokrinologforeningen.se/event/ansokan-om-svenska-lakaresallskapets-forskningsmedel/
CATEGORIES:Examination
END:VEVENT
BEGIN:VEVENT
DTSTART;VALUE=DATE:20190130
DTEND;VALUE=DATE:20190202
DTSTAMP:20260421T112622
CREATED:20180411T114252Z
LAST-MODIFIED:20180607T133956Z
UID:3371-1548806400-1549065599@endokrinologforeningen.se
SUMMARY:Endokrindagarna 2019
DESCRIPTION:
URL:https://endokrinologforeningen.se/event/endokrindagarna-2019/
LOCATION:Umeå\, Umeå
CATEGORIES:Konferens
END:VEVENT
BEGIN:VEVENT
DTSTART;VALUE=DATE:20190107
DTEND;VALUE=DATE:20190108
DTSTAMP:20260421T112622
CREATED:20181214T093707Z
LAST-MODIFIED:20181219T084717Z
UID:3876-1546819200-1546905599@endokrinologforeningen.se
SUMMARY:Abstract Svenska Endokrindagarna
DESCRIPTION:Skickas till abstract@endokrinologforeningen.se \nhttp://endokrindagarna.se/abstract/
URL:https://endokrinologforeningen.se/event/abstract-svenska-endokrondagarna/
CATEGORIES:Examination
END:VEVENT
BEGIN:VEVENT
DTSTART;VALUE=DATE:20181231
DTEND;VALUE=DATE:20190101
DTSTAMP:20260421T112622
CREATED:20181018T090128Z
LAST-MODIFIED:20181024T095136Z
UID:3758-1546214400-1546300799@endokrinologforeningen.se
SUMMARY:Nominering Bästa Svenska Endokrina avhandling 2018
DESCRIPTION:Sista dag för nominering 2018-12-31. \nInstruktion och information
URL:https://endokrinologforeningen.se/event/basta-svenska-endokrina-avhandling-2018/
CATEGORIES:Examination
END:VEVENT
BEGIN:VEVENT
DTSTART;VALUE=DATE:20181221
DTEND;VALUE=DATE:20181222
DTSTAMP:20260421T112622
CREATED:20181018T065038Z
LAST-MODIFIED:20181128T093224Z
UID:3752-1545350400-1545436799@endokrinologforeningen.se
SUMMARY:Ansökan Svenska Endokrinologföreningens forskningsstipendium
DESCRIPTION:Sista ansökningsdag 2018-12-01 \nhttps://endokrinologforeningen.se/forskningsstipendier/
URL:https://endokrinologforeningen.se/event/svenska-endokrinologforeningens-forskningsstipendium/
CATEGORIES:Examination
END:VEVENT
BEGIN:VEVENT
DTSTART;VALUE=DATE:20181205
DTEND;VALUE=DATE:20181206
DTSTAMP:20260421T112622
CREATED:20181106T142336Z
LAST-MODIFIED:20181203T140104Z
UID:3840-1543968000-1544054399@endokrinologforeningen.se
SUMMARY:Kartläggning av endokrinologi i Europa
DESCRIPTION:Svenska Endokrinologföreningen är en del av ESE och alla medlemmar ombeds att svara på enkätundersökningen senast 30 november.\nhttps://www.surveymonkey.co.uk/r/RYLQKMT
URL:https://endokrinologforeningen.se/event/kartlaggning-av-endokrinologi-i-europa/
CATEGORIES:Examination
END:VEVENT
BEGIN:VEVENT
DTSTART;VALUE=DATE:20181203
DTEND;VALUE=DATE:20181205
DTSTAMP:20260421T112622
CREATED:20180507T104703Z
LAST-MODIFIED:20180607T133901Z
UID:3498-1543795200-1543967999@endokrinologforeningen.se
SUMMARY:Vätskebalans för Sjukhusläkaren
DESCRIPTION:
URL:https://endokrinologforeningen.se/event/vatskebalans-for-sjukhuslakaren/
LOCATION:Karolinska institutet\, Stockholm\, Sverige
CATEGORIES:Kurs
END:VEVENT
BEGIN:VEVENT
DTSTART;VALUE=DATE:20181201
DTEND;VALUE=DATE:20181205
DTSTAMP:20260421T112622
CREATED:20180507T110423Z
LAST-MODIFIED:20180607T133741Z
UID:3506-1543622400-1543967999@endokrinologforeningen.se
SUMMARY:International Congress of Endocrinology
DESCRIPTION: 
URL:https://endokrinologforeningen.se/event/international-congress-of-endocrinology/
LOCATION:Kapstaden\, Kapstaden\, Sydafrika
CATEGORIES:Konferens
END:VEVENT
BEGIN:VEVENT
DTSTART;VALUE=DATE:20181114
DTEND;VALUE=DATE:20181116
DTSTAMP:20260421T112622
CREATED:20180507T104554Z
LAST-MODIFIED:20180607T133612Z
UID:3494-1542153600-1542326399@endokrinologforeningen.se
SUMMARY:Osteoporos - det du behöver veta och lite till!
DESCRIPTION:
URL:https://endokrinologforeningen.se/event/osteoporos-det-du-behover-veta-och-lite-till/
LOCATION:Uppsala\, Uppsala\, Sverige
CATEGORIES:Kurs
ORGANIZER;CN="Titti B%C3%A4ckman":MAILTO:titti.backman@amgen.com
END:VEVENT
BEGIN:VEVENT
DTSTART;VALUE=DATE:20181112
DTEND;VALUE=DATE:20181117
DTSTAMP:20260421T112622
CREATED:20180411T100359Z
LAST-MODIFIED:20181018T091932Z
UID:3368-1541980800-1542412799@endokrinologforeningen.se
SUMMARY:CONSUL kurs diabetes och lipider
DESCRIPTION:Avgift 10000 kr + moms \nFör anmälan eller frågor kontakta Magnus Löndahl\, magnus.londahl@med.lu.se
URL:https://endokrinologforeningen.se/event/consul-kurs-diabetes/
LOCATION:Grand Hotel Lund\, Bantorget 1\, Lund\, Sverige
CATEGORIES:Kurs
END:VEVENT
BEGIN:VEVENT
DTSTART;VALUE=DATE:20181112
DTEND;VALUE=DATE:20181113
DTSTAMP:20260421T112622
CREATED:20181029T091142Z
LAST-MODIFIED:20181029T091142Z
UID:3820-1541980800-1542067199@endokrinologforeningen.se
SUMMARY:Endokrina folksjukdomar: diabetes\, tyreoidea\, paratyreoidea och osteoporos
DESCRIPTION:https://utbildning.socialstyrelsen.se/enrol/index.php?id=452
URL:https://endokrinologforeningen.se/event/endokrina-folksjukdomar-diabetes-tyreoidea-paratyreoidea-och-osteoporos/
LOCATION:Karolinska institutet\, Stockholm\, Sverige
CATEGORIES:Kurs
END:VEVENT
BEGIN:VEVENT
DTSTART;TZID=UTC:20181019T080000
DTEND;TZID=UTC:20181021T170000
DTSTAMP:20260421T112622
CREATED:20180608T092543Z
LAST-MODIFIED:20180608T092543Z
UID:3673-1539936000-1540141200@endokrinologforeningen.se
SUMMARY:CEU Anaheim 2018
DESCRIPTION:
URL:https://endokrinologforeningen.se/event/ceu-anaheim-2018/
LOCATION:Anaheim\, Anaheim\, Förenta Staterna\, USA
CATEGORIES:Kurs
END:VEVENT
BEGIN:VEVENT
DTSTART;VALUE=DATE:20181017
DTEND;VALUE=DATE:20181020
DTSTAMP:20260421T112622
CREATED:20180411T100307Z
LAST-MODIFIED:20180608T090005Z
UID:3365-1539734400-1539993599@endokrinologforeningen.se
SUMMARY:SYED 2018
DESCRIPTION:Ämnen som kommer att presenteras är: \n1. Neuroendokrina tumörer; diagnostik\, utredning och behandling\n2. Senaste nytt inom diabetes (både typ 1 och typ 2)\n3. Osteoporos\n4. Diabetes och graviditet
URL:https://endokrinologforeningen.se/event/syed-2018/
LOCATION:Örebro\, Örebro
CATEGORIES:Kurs
END:VEVENT
BEGIN:VEVENT
DTSTART;VALUE=DATE:20181015
DTEND;VALUE=DATE:20181020
DTSTAMP:20260421T112622
CREATED:20180411T100210Z
LAST-MODIFIED:20180607T132032Z
UID:3362-1539561600-1539993599@endokrinologforeningen.se
SUMMARY:SK-kurs om Medfödda metabola sjukdomar
DESCRIPTION:
URL:https://endokrinologforeningen.se/event/sk-kurs-om-medfodda-metabola-sjukdomar/
LOCATION:Karolinska institutet\, Stockholm\, Sverige
CATEGORIES:Kurs
END:VEVENT
BEGIN:VEVENT
DTSTART;VALUE=DATE:20181010
DTEND;VALUE=DATE:20181014
DTSTAMP:20260421T112622
CREATED:20180824T122811Z
LAST-MODIFIED:20180824T122811Z
UID:3738-1539129600-1539475199@endokrinologforeningen.se
SUMMARY:The 43rd Symposium on Hormones and Cell Regulation
DESCRIPTION:https://www.hormones-cell-regulation.eu/programmeeng
URL:https://endokrinologforeningen.se/event/the-43rd-symposium-on-hormones-and-cell-regulation/
LOCATION:Mont-Saint-Odile\, Ottrott\, 67530\, Frankrike
CATEGORIES:Konferens
END:VEVENT
BEGIN:VEVENT
DTSTART;VALUE=DATE:20181008
DTEND;VALUE=DATE:20181013
DTSTAMP:20260421T112622
CREATED:20180507T104832Z
LAST-MODIFIED:20180607T131832Z
UID:3500-1538956800-1539388799@endokrinologforeningen.se
SUMMARY:Metabolic disorders including diabetes
DESCRIPTION:Läs mer: https://endokrinologforeningen.se/wp-content/uploads/2018/05/Course-description-Metabolic-disorders-UmU-October-2018.pdf
URL:https://endokrinologforeningen.se/event/metabolic-disorders-including-diabetes/
LOCATION:Umeå\, Umeå
CATEGORIES:Kurs
END:VEVENT
BEGIN:VEVENT
DTSTART;VALUE=DATE:20180914
DTEND;VALUE=DATE:20180918
DTSTAMP:20260421T112622
CREATED:20180411T100112Z
LAST-MODIFIED:20180607T131738Z
UID:3359-1536883200-1537228799@endokrinologforeningen.se
SUMMARY:9th International Congress of the GRS/IGF Societies
DESCRIPTION:Abstract Submission will open on December 1st. \nVisit the Congress website for additional information.
URL:https://endokrinologforeningen.se/event/9th-international-congress-of-the-grs-igf-societies/
LOCATION:Seattle\, Seattle\, Förenta Staterna\, USA
CATEGORIES:Konferens
END:VEVENT
BEGIN:VEVENT
DTSTART;TZID=UTC:20180906T080000
DTEND;TZID=UTC:20180908T170000
DTSTAMP:20260421T112622
CREATED:20180608T092308Z
LAST-MODIFIED:20180608T092617Z
UID:3670-1536220800-1536426000@endokrinologforeningen.se
SUMMARY:CEU Miami 2018
DESCRIPTION:
URL:https://endokrinologforeningen.se/event/clinical-endocrinology-update/
LOCATION:Miami\, Miami\, Förenta Staterna\, USA
CATEGORIES:Kurs
END:VEVENT
BEGIN:VEVENT
DTSTART;VALUE=DATE:20180715
DTEND;VALUE=DATE:20180719
DTSTAMP:20260421T112622
CREATED:20180608T093546Z
LAST-MODIFIED:20180608T093546Z
UID:3680-1531612800-1531958399@endokrinologforeningen.se
SUMMARY:ESE Summer School 2018
DESCRIPTION:
URL:https://endokrinologforeningen.se/event/ese-summer-school-2018/
LOCATION:Berlin\, Berlin\, Tyskland
CATEGORIES:Kurs
END:VEVENT
BEGIN:VEVENT
DTSTART;VALUE=DATE:20180519
DTEND;VALUE=DATE:20180520
DTSTAMP:20260421T112622
CREATED:20180411T100011Z
LAST-MODIFIED:20180411T100011Z
UID:3356-1526688000-1526774399@endokrinologforeningen.se
SUMMARY:ECE 2018
DESCRIPTION:För mer information: ECE 2018 Barcelona (länk\, öppnas i nytt fönster)
URL:https://endokrinologforeningen.se/event/ece-2018/
LOCATION:Barcelona\, Barcelona\, Spanien
CATEGORIES:Konferens
END:VEVENT
BEGIN:VEVENT
DTSTART;VALUE=DATE:20180514
DTEND;VALUE=DATE:20180515
DTSTAMP:20260421T112622
CREATED:20180312T135132Z
LAST-MODIFIED:20180312T135151Z
UID:3217-1526256000-1526342399@endokrinologforeningen.se
SUMMARY:ÖVERSIKTSKURS I ENDOKRINOLOGI OCH DIABETOLOGI
DESCRIPTION:Målgrupp: Kursen riktar sig i huvudsak till ST-läkare inom intern­medicin med eventuella grenspecialiteter. Baskunskaper inom området krävs inför kursen. \nUpplägg: Fokus under kursen ligger på diagnostik\, prevention\, behandling och i synnerhet på den rent praktiska handläggningen av endokrina rubbningar och diabetes.\nKursen inkluderar såväl akuta tillstånd som betydelsefull sekundär prevention. Grundstrukturen är före­läsningar med interaktiva och stimulerande fallbeskrivningar.\nDe tre första dagarna avrundas med ett fallseminarium som anknyter till dagens föreläsningar. \nFör mer information klicka här!
URL:https://endokrinologforeningen.se/event/3217/
LOCATION:Akademiska Sjukhuset\, Sjukhusvägen 85\, Uppsala\, 751 85\, Sverige
CATEGORIES:Kurs
END:VEVENT
END:VCALENDAR