BEGIN:VCALENDAR
VERSION:2.0
PRODID:-//SEF - ECPv6.10.2//NONSGML v1.0//EN
CALSCALE:GREGORIAN
METHOD:PUBLISH
X-ORIGINAL-URL:https://endokrinologforeningen.se
X-WR-CALDESC:Händelser för SEF
REFRESH-INTERVAL;VALUE=DURATION:PT1H
X-Robots-Tag:noindex
X-PUBLISHED-TTL:PT1H
BEGIN:VTIMEZONE
TZID:UTC
BEGIN:STANDARD
TZOFFSETFROM:+0000
TZOFFSETTO:+0000
TZNAME:UTC
DTSTART:20190101T000000
END:STANDARD
END:VTIMEZONE
BEGIN:VEVENT
DTSTART;VALUE=DATE:20200131
DTEND;VALUE=DATE:20200201
DTSTAMP:20260421T100102
CREATED:20191206T121848Z
LAST-MODIFIED:20191206T121848Z
UID:4138-1580428800-1580515199@endokrinologforeningen.se
SUMMARY:Abstract till EndoDiabetes 2020
DESCRIPTION:https://www.endodiabetes.se/abstractinformation/\nSkickas senast 31 januari 2020 till: abstract@endokrinologforeningen.se\n\n\nSEF delar ut pris för bästa fria föredrag (10 000 kr)\, bästa poster (5000 kr) och bästa fallrapport (2000 kr).
URL:https://endokrinologforeningen.se/event/abstract-till-endodiabetes-2020/
CATEGORIES:Examination
END:VEVENT
BEGIN:VEVENT
DTSTART;VALUE=DATE:20191231
DTEND;VALUE=DATE:20200101
DTSTAMP:20260421T100102
CREATED:20191206T121955Z
LAST-MODIFIED:20191206T121955Z
UID:4142-1577750400-1577836799@endokrinologforeningen.se
SUMMARY:Bästa Svenska Endokrina Avhandling 2019
DESCRIPTION:https://endokrinologforeningen.se/arets-endokrina-avhandling/\n\nSista dag för nominering 31 december 2019.\nSkickas till: vetenskapligsekreterare@endokrinologforeningen.se 
URL:https://endokrinologforeningen.se/event/basta-svenska-endokrina-avhandling-2019/
CATEGORIES:Examination
END:VEVENT
BEGIN:VEVENT
DTSTART;VALUE=DATE:20191231
DTEND;VALUE=DATE:20200101
DTSTAMP:20260421T100102
CREATED:20191206T121928Z
LAST-MODIFIED:20191206T121928Z
UID:4140-1577750400-1577836799@endokrinologforeningen.se
SUMMARY:Svenska Endokrinologföreningens Forskningsstipendium
DESCRIPTION:https://endokrinologforeningen.se/forskningsstipendier/\n\nSista ansökningsdag 31 december 2019. \nSkickas till: forskningsstipendium@endokrinologforeningen.se. 
URL:https://endokrinologforeningen.se/event/svenska-endokrinologforeningens-forskningsstipendium-2/
CATEGORIES:Examination
END:VEVENT
BEGIN:VEVENT
DTSTART;VALUE=DATE:20191202
DTEND;VALUE=DATE:20191207
DTSTAMP:20260421T100102
CREATED:20181024T094326Z
LAST-MODIFIED:20181107T103603Z
UID:3808-1575244800-1575676799@endokrinologforeningen.se
SUMMARY:SK-kurs: Medfödda metabola sjukdomar hos vuxna
DESCRIPTION:https://utbildning.socialstyrelsen.se/enrol/index.php?id=668 \n 
URL:https://endokrinologforeningen.se/event/sk-kurs-medfodda-metabola-sjukdomar-hos-vuxna/
LOCATION:Karolinska institutet\, Stockholm\, Sverige
CATEGORIES:Kurs
END:VEVENT
BEGIN:VEVENT
DTSTART;VALUE=DATE:20191127
DTEND;VALUE=DATE:20191129
DTSTAMP:20260421T100102
CREATED:20181029T091527Z
LAST-MODIFIED:20191022T111113Z
UID:3828-1574812800-1574985599@endokrinologforeningen.se
SUMMARY:Thyroid and Parathyroid Imaging
DESCRIPTION:Symposium på Svenska \n \nInformation och anmälan (länk\, öppnas i nytt fönster)
URL:https://endokrinologforeningen.se/event/thyroid-and-parathyroid-imaging/
LOCATION:Malmö
CATEGORIES:Konferens
END:VEVENT
BEGIN:VEVENT
DTSTART;VALUE=DATE:20191121
DTEND;VALUE=DATE:20191123
DTSTAMP:20260421T100102
CREATED:20190211T095820Z
LAST-MODIFIED:20190211T095820Z
UID:3930-1574294400-1574467199@endokrinologforeningen.se
SUMMARY:ENSAT (european network for the study of adrenal tumors)
DESCRIPTION:http://www.ensat.org/event-2892862
URL:https://endokrinologforeningen.se/event/ensat-european-network-for-the-study-of-adrenal-tumors/
LOCATION:Akademiska Sjukhuset\, Sjukhusvägen 85\, Uppsala\, 751 85\, Sverige
CATEGORIES:Konferens
END:VEVENT
BEGIN:VEVENT
DTSTART;VALUE=DATE:20191115
DTEND;VALUE=DATE:20191116
DTSTAMP:20260421T100102
CREATED:20190403T090640Z
LAST-MODIFIED:20190403T090809Z
UID:3984-1573776000-1573862399@endokrinologforeningen.se
SUMMARY:Skrivning common trunk
DESCRIPTION:Länk till information om skrivningen.
URL:https://endokrinologforeningen.se/event/skrivning-common-trunk/
CATEGORIES:Examination
END:VEVENT
BEGIN:VEVENT
DTSTART;VALUE=DATE:20191104
DTEND;VALUE=DATE:20191105
DTSTAMP:20260421T100102
CREATED:20181029T091308Z
LAST-MODIFIED:20181029T091308Z
UID:3824-1572825600-1572911999@endokrinologforeningen.se
SUMMARY:Endokrina folksjukdomar; diabetes\, tyreoidea\, paratyreoidea och osteoporos
DESCRIPTION:https://utbildning.socialstyrelsen.se/enrol/index.php?id=727
URL:https://endokrinologforeningen.se/event/endokrina-folksjukdomar-diabetes-tyreoidea-paratyreoidea-och-osteoporos-3/
LOCATION:Karolinska institutet\, Stockholm\, Sverige
CATEGORIES:Kurs
END:VEVENT
BEGIN:VEVENT
DTSTART;VALUE=DATE:20191030
DTEND;VALUE=DATE:20191104
DTSTAMP:20260421T100102
CREATED:20190227T090415Z
LAST-MODIFIED:20190227T090415Z
UID:3947-1572393600-1572825599@endokrinologforeningen.se
SUMMARY:89th Annual Meeting of the American Thyroid Association
DESCRIPTION:Chicago is one of the finest cities in the world. With its beautiful lakefront\, incredible architecture and cosmopolitan culture\, Chicago attracts millions from around the world every year. As North America’s dual hub for commercial air travel\, the city is easy to get to from virtually anywhere. Chicago’s premier location translates into real convenience for everyone. In the Heart of Chicago\, the Sheraton Grand is walking distance to Navy Pier\, Magnificent Mile\, Millennium Park\, the Art Institute\, the Loop Business District\, shopping\, dining\, entertainment and much more. Chaired by 2019 Program Chairs Drs. Mona Sabra and Antonio Di Cristofano and featuring world renowned faculty\, timely topics and unmatched collegiality\, join us for the best of science and culture at the 89th Annual Meeting of the American Thyroid Association®. \nhttps://www.thyroid.org/89th-annual-meeting-ata/
URL:https://endokrinologforeningen.se/event/89th-annual-meeting-of-the-american-thyroid-association/
LOCATION:Chicago\, USA
CATEGORIES:Konferens
END:VEVENT
BEGIN:VEVENT
DTSTART;VALUE=DATE:20191023
DTEND;VALUE=DATE:20191024
DTSTAMP:20260421T100102
CREATED:20191015T065700Z
LAST-MODIFIED:20191015T065700Z
UID:4057-1571788800-1571875199@endokrinologforeningen.se
SUMMARY:ISE webinar
DESCRIPTION:Join us for the first joint Webinar of ISE in partnership with the International Menopause Society on the topic: \nThere is consensus: Global Position Statement on the use of testosterone in Women \nInformation (link to registration)
URL:https://endokrinologforeningen.se/event/ise-webinar/
CATEGORIES:Kurs
END:VEVENT
BEGIN:VEVENT
DTSTART;VALUE=DATE:20191021
DTEND;VALUE=DATE:20191026
DTSTAMP:20260421T100102
CREATED:20181113T090913Z
LAST-MODIFIED:20190905T080825Z
UID:3843-1571616000-1572047999@endokrinologforeningen.se
SUMMARY:CONSUL-kurs tyreoidea - kalk
DESCRIPTION:CONSUL-kurs i Oslo 21-25 oktober\nTyreoideasjukdomar\, Kalcium- och fosfatrubbningar\, osteoporos och andra skelettsjukdomar \n\nSista anmälningsdag 17 juni.\n\nMer information om kursen finns på:\nhttps://spesialisthelsetjenesten.no/arrangementer/thyroideasykdommer-kalsium-og-fosfatforstyrrelser-osteoporose-andre-skjelettsykdommer-consulcourse-2019-10-21#kurskomite\n\n\nTyvärr tycks den nya norska systemet för ansökan om kurser inte vara helt optimerat\, särskilt inte för svenska deltagare.  \nDärför bör alla som ansökt om plats på CONSUL Oslo skicka ett mail till  oushfpbregutkurs@ous-hf.no  för att få bekräftat att de verkligen är anmälda. Skriv i ämnesraden ”CONSUL 2019 – Svensk”. \nFör er som ännu inte anmält er – sista anmälningsdatum är 17 juni. Gör anmälan direkt till ovan mail-adress och inkludera informationen som anges i nedan pdf. \nLedsen för detta strul. \nMed vänlig hälsning\, Pelle\n_______________________________________________\nPer Dahlqvist\nVetenskaplig sekreterare\nSvenska Endokrinologföreningen \n\n\nVid frågor om anmälan eller kursen kontakta Dr Trine E Finnes: e-post: Trine.E.Finnes@sykehuset-innlandet.no\n\nKursdeltagare som önskar bo på Scandic Victoria måste boka rum själv. Telefon: +47 24 14 70 00Kursorganisatörerna (RegUt) har håller rum för kursdeltagare tom 20/9\, därefter garanterar de inte lediga rum.\n\nProgram (pdf\, öppnas i nytt fönster)
URL:https://endokrinologforeningen.se/event/consul-kurs-tyreoidea-kalk/
LOCATION:Ullevål\, Oslo
CATEGORIES:Kurs
END:VEVENT
BEGIN:VEVENT
DTSTART;VALUE=DATE:20190930
DTEND;VALUE=DATE:20191001
DTSTAMP:20260421T100102
CREATED:20181029T090951Z
LAST-MODIFIED:20181029T090951Z
UID:3818-1569801600-1569887999@endokrinologforeningen.se
SUMMARY:Akut Endokrinologi
DESCRIPTION:https://utbildning.socialstyrelsen.se/enrol/index.php?id=631
URL:https://endokrinologforeningen.se/event/akut-endokrinologi/
LOCATION:Karolinska institutet\, Stockholm\, Sverige
CATEGORIES:Kurs
END:VEVENT
BEGIN:VEVENT
DTSTART;VALUE=DATE:20190925
DTEND;VALUE=DATE:20190928
DTSTAMP:20260421T100102
CREATED:20181130T110207Z
LAST-MODIFIED:20190318T103820Z
UID:3865-1569369600-1569628799@endokrinologforeningen.se
SUMMARY:SYED
DESCRIPTION:Information och anmälan (länk)
URL:https://endokrinologforeningen.se/event/syed/
LOCATION:Universitetssjukhuset Linköping\, Linköping\, Sverige
CATEGORIES:Konferens
END:VEVENT
BEGIN:VEVENT
DTSTART;VALUE=DATE:20190919
DTEND;VALUE=DATE:20190922
DTSTAMP:20260421T100102
CREATED:20190227T090814Z
LAST-MODIFIED:20190227T090814Z
UID:3952-1568851200-1569110399@endokrinologforeningen.se
SUMMARY:Clinical Endocrinology Update
DESCRIPTION:CEU is your opportunity to stay up-to-date on the newest breakthroughs in clinical endocrinology. Expert faculty deliver a comprehensive three-day program covering a range of clinical practice areas using interactive\, case-based learning. \nhttps://www.endocrine.org/ceu
URL:https://endokrinologforeningen.se/event/clinical-endocrinology-update-3/
LOCATION:Seattle\, Seattle\, Förenta Staterna\, USA
CATEGORIES:Konferens
END:VEVENT
BEGIN:VEVENT
DTSTART;VALUE=DATE:20190916
DTEND;VALUE=DATE:20190920
DTSTAMP:20260421T100102
CREATED:20181029T091411Z
LAST-MODIFIED:20181029T091411Z
UID:3826-1568592000-1568937599@endokrinologforeningen.se
SUMMARY:EASD
DESCRIPTION:https://www.easd.org/annual-meeting/easd-2019.html
URL:https://endokrinologforeningen.se/event/easd/
LOCATION:Barcelona\, Barcelona\, Spanien
CATEGORIES:Konferens
END:VEVENT
BEGIN:VEVENT
DTSTART;VALUE=DATE:20190911
DTEND;VALUE=DATE:20190913
DTSTAMP:20260421T100102
CREATED:20190416T082908Z
LAST-MODIFIED:20190416T082908Z
UID:4002-1568160000-1568332799@endokrinologforeningen.se
SUMMARY:Berzelius symposium Obesity and Type 2 Diabetes\, understanding the role of ethnicity
DESCRIPTION:Dear colleague\,\nWe have the great pleasure to invite you to the Berzelius symposium Obesity and Type 2 Diabetes\, understanding the role of ethnicity ​in Umeå the 11-12th of September 2019. This two-day symposium includes presentations from leading researchers in this field. You will also have the opportunity to interact and discuss with the invited speakers including a round-table discussion as well as the possibility to present your research in a poster session. \nKeynote speakers:\nHanieh Yaghootkar\, Exeter (UK)\nPaul Franks\, Lund\nAlex Brown\, Adelaide\nJulia Goedecke\, Cape Town\nBarbara Gower\, Birmingham (US)\nKyong Soo Park\, Seoul\nTorben Hansen\, Copenhagen \nFor more information visit our website where you will find all information regarding final program and registration including accommodation. For a reduced rate\, please sign up before the 15th of August 2019. \nWe hope to see you during the beautiful autumn in Umeå!\nOn behalf on the organizing committee \nTommy Olsson\, Julia Goedecke and Paul Franks
URL:https://endokrinologforeningen.se/event/berzelius-symposium-obesity-and-type-2-diabetes-understanding-the-role-of-ethnicity/
LOCATION:Umeå\, Umeå
CATEGORIES:Konferens
END:VEVENT
BEGIN:VEVENT
DTSTART;VALUE=DATE:20190909
DTEND;VALUE=DATE:20190910
DTSTAMP:20260421T100102
CREATED:20181029T090852Z
LAST-MODIFIED:20181029T090852Z
UID:3816-1567987200-1568073599@endokrinologforeningen.se
SUMMARY:Omhändertagande i samband med kirurgi vid endokrina tumörer
DESCRIPTION:https://utbildning.socialstyrelsen.se/enrol/index.php?id=669
URL:https://endokrinologforeningen.se/event/omhandertagande-i-samband-med-kirurgi-vid-endokrina-tumorer/
LOCATION:Karolinska institutet\, Stockholm\, Sverige
CATEGORIES:Kurs
END:VEVENT
BEGIN:VEVENT
DTSTART;VALUE=DATE:20190905
DTEND;VALUE=DATE:20190908
DTSTAMP:20260421T100102
CREATED:20190227T090616Z
LAST-MODIFIED:20190227T090616Z
UID:3950-1567641600-1567900799@endokrinologforeningen.se
SUMMARY:Clinical Endocrinology Update
DESCRIPTION:CEU is your opportunity to stay up-to-date on the newest breakthroughs in clinical endocrinology. Expert faculty deliver a comprehensive three-day program covering a range of clinical practice areas using interactive\, case-based learning. \nhttps://www.endocrine.org/ceu
URL:https://endokrinologforeningen.se/event/clinical-endocrinology-update-2/
LOCATION:Miami\, Miami\, Förenta Staterna\, USA
CATEGORIES:Konferens
END:VEVENT
BEGIN:VEVENT
DTSTART;VALUE=DATE:20190828
DTEND;VALUE=DATE:20190829
DTSTAMP:20260421T100102
CREATED:20190227T091204Z
LAST-MODIFIED:20190515T092410Z
UID:3954-1566950400-1567036799@endokrinologforeningen.se
SUMMARY:Kurs i endokrinologi för sjuksköterskor
DESCRIPTION:Information och ansökan om kursplats på:\n\nhttps://medicine.gu.se/utbildning/uppdragsutb/kurs-i-endokrinologi
URL:https://endokrinologforeningen.se/event/kurs-i-endokrinologi-for-sjukskoterskor/
LOCATION:Göteborg\, Göteborg\, Sverige
CATEGORIES:Kurs
END:VEVENT
BEGIN:VEVENT
DTSTART;VALUE=DATE:20190612
DTEND;VALUE=DATE:20190613
DTSTAMP:20260421T100102
CREATED:20180607T102521Z
LAST-MODIFIED:20180608T090040Z
UID:3639-1560297600-1560383999@endokrinologforeningen.se
SUMMARY:European Board Examination in Endocrinology\, Diabetes and Metabolism
DESCRIPTION: 
URL:https://endokrinologforeningen.se/event/european-board-examination-in-endocrinology-diabetes-and-metabolism/
CATEGORIES:Examination
END:VEVENT
BEGIN:VEVENT
DTSTART;VALUE=DATE:20190606
DTEND;VALUE=DATE:20190608
DTSTAMP:20260421T100102
CREATED:20190227T085620Z
LAST-MODIFIED:20190227T085620Z
UID:3944-1559779200-1559951999@endokrinologforeningen.se
SUMMARY:Multidisciplinary workshop for pituitary tumour specialists
DESCRIPTION:https://www.pituitarycourse.eu/102575
URL:https://endokrinologforeningen.se/event/multidisciplinary-workshop-for-pituitary-tumour-specialists/
LOCATION:Leiden\, Leiden\, Nederländerna
CATEGORIES:Konferens
END:VEVENT
BEGIN:VEVENT
DTSTART;VALUE=DATE:20190520
DTEND;VALUE=DATE:20190524
DTSTAMP:20260421T100102
CREATED:20181018T074912Z
LAST-MODIFIED:20181018T074943Z
UID:3755-1558310400-1558655999@endokrinologforeningen.se
SUMMARY:Översiktskurs i endokrinologi och diabetologi
DESCRIPTION:Målgrupp: ST-läkare inom internmedicin\, endokrinologi\, allmänmedicin\, akutsjukvård\, kardiologi\, medicinska njursjukdomar samt geriatrik.\nUpplägg: Fokus under kursen ligger på diagnostik\, prevention\, behandling och i synnerhet på den rent praktiska handläggningen av endokrina rubbningar och diabetes. Kursen inkluderar såväl akuta tillstånd som betydelsefull sekundär prevention. Grundstrukturen är före­läsningar med interaktiva och stimulerande fallbeskrivningar. \nhttps://www.lipus.se/kurs/11154/
URL:https://endokrinologforeningen.se/event/oversiktskurs-i-endokrinologi-och-diabetologi/
LOCATION:Akademiska Sjukhuset\, Sjukhusvägen 85\, Uppsala\, 751 85\, Sverige
CATEGORIES:Kurs
END:VEVENT
BEGIN:VEVENT
DTSTART;VALUE=DATE:20190518
DTEND;VALUE=DATE:20190522
DTSTAMP:20260421T100102
CREATED:20181018T064850Z
LAST-MODIFIED:20181018T064850Z
UID:3749-1558137600-1558483199@endokrinologforeningen.se
SUMMARY:European Congress of Endocrinology
DESCRIPTION:Mer information: https://www.ese-hormones.org/events-deadlines/ese-events/21st-european-congress-of-endocrinology/
URL:https://endokrinologforeningen.se/event/european-congress-of-endocrinology/
LOCATION:Lyon\, Frankrike\, Lyon\, Frankrike
CATEGORIES:Konferens
END:VEVENT
BEGIN:VEVENT
DTSTART;VALUE=DATE:20190506
DTEND;VALUE=DATE:20190507
DTSTAMP:20260421T100102
CREATED:20181029T091224Z
LAST-MODIFIED:20181029T091224Z
UID:3822-1557100800-1557187199@endokrinologforeningen.se
SUMMARY:Endokrina folksjukdomar: diabetes\, tyreoidea\, paratyreoidea och osteoporos
DESCRIPTION:https://utbildning.socialstyrelsen.se/enrol/index.php?id=642
URL:https://endokrinologforeningen.se/event/endokrina-folksjukdomar-diabetes-tyreoidea-paratyreoidea-och-osteoporos-2/
LOCATION:Karolinska institutet\, Stockholm\, Sverige
CATEGORIES:Kurs
END:VEVENT
BEGIN:VEVENT
DTSTART;VALUE=DATE:20190323
DTEND;VALUE=DATE:20190327
DTSTAMP:20260421T100102
CREATED:20180607T102229Z
LAST-MODIFIED:20190102T122817Z
UID:3636-1553299200-1553644799@endokrinologforeningen.se
SUMMARY:ENDO - Endocrine Society Annual Meeting
DESCRIPTION:https://www.endocrine.org/endo2019
URL:https://endokrinologforeningen.se/event/endo-endocrine-society-annual-meeting/
LOCATION:New Orleans\, New Orleans\, Förenta Staterna\, USA
CATEGORIES:Konferens
END:VEVENT
BEGIN:VEVENT
DTSTART;VALUE=DATE:20190307
DTEND;VALUE=DATE:20190311
DTSTAMP:20260421T100102
CREATED:20190123T083807Z
LAST-MODIFIED:20190123T083807Z
UID:3911-1551916800-1552262399@endokrinologforeningen.se
SUMMARY:ESE Postgraduate Course in Clinical Endocrinology\, Diabetes and Metabolism
DESCRIPTION:Kursavgift €300 (€200 för ESE members)\n\nhttps://www.ese-hormones.org/events-deadlines/ese-events/24th-ese-postgraduate-training-course-on-endocrinology-diabetes-and-metabolism/
URL:https://endokrinologforeningen.se/event/ese-postgraduate-course-in-clinical-endocrinology-diabetes-and-metabolism/
LOCATION:Bled\, Slovenia\, Bled\, Slovenien
CATEGORIES:Konferens
END:VEVENT
BEGIN:VEVENT
DTSTART;TZID=UTC:20190211T080000
DTEND;TZID=UTC:20190215T170000
DTSTAMP:20260421T100102
CREATED:20180608T093036Z
LAST-MODIFIED:20180608T093036Z
UID:3677-1549872000-1550250000@endokrinologforeningen.se
SUMMARY:Mayo Clinic School of Continuous Professional Development
DESCRIPTION:Designed for endocrinologists and interested internists and surgeons\, this course addresses gaps in medical knowledge and barriers in clinical practice to improve the outcomes of patients with endocrine and metabolic disorders.
URL:https://endokrinologforeningen.se/event/mayo-clinic-school-of-continuous-professional-development/
LOCATION:Big Island\, Hawaii\, 1 N Kaniku Drive\, Kohala Coast\, Big Island\, HI\, 96743\, Förenta Staterna\, USA
CATEGORIES:Kurs
END:VEVENT
BEGIN:VEVENT
DTSTART;VALUE=DATE:20190201
DTEND;VALUE=DATE:20190202
DTSTAMP:20260421T100102
CREATED:20181203T140022Z
LAST-MODIFIED:20181203T140022Z
UID:3870-1548979200-1549065599@endokrinologforeningen.se
SUMMARY:Ansökan om Svenska Läkaresällskapets Forskningsmedel
DESCRIPTION:https://www.sls.se/vetenskap/aktuella-utlysningar/
URL:https://endokrinologforeningen.se/event/ansokan-om-svenska-lakaresallskapets-forskningsmedel/
CATEGORIES:Examination
END:VEVENT
BEGIN:VEVENT
DTSTART;VALUE=DATE:20190130
DTEND;VALUE=DATE:20190202
DTSTAMP:20260421T100102
CREATED:20180411T114252Z
LAST-MODIFIED:20180607T133956Z
UID:3371-1548806400-1549065599@endokrinologforeningen.se
SUMMARY:Endokrindagarna 2019
DESCRIPTION:
URL:https://endokrinologforeningen.se/event/endokrindagarna-2019/
LOCATION:Umeå\, Umeå
CATEGORIES:Konferens
END:VEVENT
BEGIN:VEVENT
DTSTART;VALUE=DATE:20190107
DTEND;VALUE=DATE:20190108
DTSTAMP:20260421T100102
CREATED:20181214T093707Z
LAST-MODIFIED:20181219T084717Z
UID:3876-1546819200-1546905599@endokrinologforeningen.se
SUMMARY:Abstract Svenska Endokrindagarna
DESCRIPTION:Skickas till abstract@endokrinologforeningen.se \nhttp://endokrindagarna.se/abstract/
URL:https://endokrinologforeningen.se/event/abstract-svenska-endokrondagarna/
CATEGORIES:Examination
END:VEVENT
END:VCALENDAR