BEGIN:VCALENDAR
VERSION:2.0
PRODID:-//SEF - ECPv6.10.2//NONSGML v1.0//EN
CALSCALE:GREGORIAN
METHOD:PUBLISH
X-ORIGINAL-URL:https://endokrinologforeningen.se
X-WR-CALDESC:Händelser för SEF
REFRESH-INTERVAL;VALUE=DURATION:PT1H
X-Robots-Tag:noindex
X-PUBLISHED-TTL:PT1H
BEGIN:VTIMEZONE
TZID:UTC
BEGIN:STANDARD
TZOFFSETFROM:+0000
TZOFFSETTO:+0000
TZNAME:UTC
DTSTART:20250101T000000
END:STANDARD
END:VTIMEZONE
BEGIN:VEVENT
DTSTART;VALUE=DATE:20251001
DTEND;VALUE=DATE:20251004
DTSTAMP:20260422T222218
CREATED:20250522T064154Z
LAST-MODIFIED:20250522T064154Z
UID:6189-1759276800-1759535999@endokrinologforeningen.se
SUMMARY:SYED 2025
DESCRIPTION:Länk till anmälan: https://www.trippus.net/syed2025
URL:https://endokrinologforeningen.se/event/syed-2025/
LOCATION:Helsingborg\, Helsingborg
CATEGORIES:Kurs
END:VEVENT
BEGIN:VEVENT
DTSTART;VALUE=DATE:20251013
DTEND;VALUE=DATE:20251018
DTSTAMP:20260422T222218
CREATED:20241217T134722Z
LAST-MODIFIED:20251009T130227Z
UID:6011-1760313600-1760745599@endokrinologforeningen.se
SUMMARY: CONSUL TYREOIDEA-BEN-KALK 2025
DESCRIPTION:Välkommen på CONSUL-kurs i Göteborg\, 13-17 oktober 2025! \nÄmne: Tyreoidea- ben- och kalciumrubbningar \n  \nInbjudan (PDF) \nProgram (PDF) \nAnmälan (PDF) \n 
URL:https://endokrinologforeningen.se/event/consul-tyreoidea-ben-kalk-2025/
LOCATION:Göteborg\, Göteborg\, Sverige
CATEGORIES:Kurs
END:VEVENT
BEGIN:VEVENT
DTSTART;VALUE=DATE:20251119
DTEND;VALUE=DATE:20251121
DTSTAMP:20260422T222218
CREATED:20250828T124744Z
LAST-MODIFIED:20250828T124744Z
UID:6285-1763510400-1763683199@endokrinologforeningen.se
SUMMARY:Andrologikurs
DESCRIPTION:Välkomna till kurs i Andrologi för ST-läkare!\nKursen hålls i Stockholm den 19-20 november 2025 och arrangeras av Svensk Andrologisk Förening (SAF) https://svenskandrologi.se/\nDen riktar sig främst till de ST-läkare som i sin målbeskrivning har delar av kursinnehållet som krav\, alltså i första hand ST i allmänmedicin\, endokrinologi\, urologi och till gynekologer som subspecialiserar sig inom reproduktionsmedicin. Även färdiga specialister är välkomna.\nMålsättningen är att ge kunskap om orsaker\, diagnostik\, praktisk handläggning\, prevention samt behandling av andrologiska problemområden som erektil dysfunktion\, ejakulationsstörningar\, hypogonadism\, infertilitet\, kromosomala avvikelser och avvikande pubertetsutveckling. Andrologiska tillstånds samband med folksjukdomar som diabetes\, osteoporos och fetma kommer även att diskuteras.\nhttps://svenskandrologi.se/sjukvardspersonal/kalender/event/andrologikurs/
URL:https://endokrinologforeningen.se/event/andrologikurs/
LOCATION:Stockholm\, Stockholm\, Sverige
CATEGORIES:Kurs
END:VEVENT
BEGIN:VEVENT
DTSTART;TZID=UTC:20251127T090000
DTEND;TZID=UTC:20251127T160000
DTSTAMP:20260422T222218
CREATED:20250122T093337Z
LAST-MODIFIED:20250214T083723Z
UID:6033-1764234000-1764259200@endokrinologforeningen.se
SUMMARY:Endokrinologisk transvård
DESCRIPTION:https://utbildning.ki.se/uppdragsutbildning/kursutbud/endokrinologisk-transvard-ht-2025 \nKönsdysfori är en term som beskriver det lidande som kan uppstå när en individs könsidentitet inte är kongruent med det juridiska kön personen tilldelats vid födseln. Denna utbildning vänder sig till dig som i din yrkesutövning träffar personer med transerfarenhet. Kursen är en grundkurs i hormonell behandling av vuxna personer med könsdysfori. Målet med kursen är att du som deltagare ska erbjudas ökad kunskap och förståelse kring hormonell behandling av transpersoner som söker vård. \nHeldag på distans via Zoom.
URL:https://endokrinologforeningen.se/event/endokrinologisk-transvard/
CATEGORIES:Kurs
END:VEVENT
BEGIN:VEVENT
DTSTART;VALUE=DATE:20251208
DTEND;VALUE=DATE:20251210
DTSTAMP:20260422T222218
CREATED:20250611T093828Z
LAST-MODIFIED:20250611T093828Z
UID:6222-1765152000-1765324799@endokrinologforeningen.se
SUMMARY:Ultraljudskurs i huvud- och halsregionen\, inklusive tyreoidea och paratyreoidea
DESCRIPTION:Anmälan nu är öppen för nästa kurstillfälle: \nUltraljudskurs i huvud- och halsregionen\, inklusive tyreoidea och paratyreoidea\n🗓 8-9 december 2025 (lägg till i kalendern)\n📍 The Winery Hotel\, Stockholm \nPå vår hemsida hittar du all information samt anmälningsformulär att ladda ner.
URL:https://endokrinologforeningen.se/event/ultraljudskurs-i-huvud-och-halsregionen-inklusive-tyreoidea-och-paratyreoidea/
LOCATION:Winery Hotel\, Stockholm
CATEGORIES:Kurs
END:VEVENT
BEGIN:VEVENT
DTSTART;VALUE=DATE:20260309
DTEND;VALUE=DATE:20260311
DTSTAMP:20260422T222218
CREATED:20251103T090110Z
LAST-MODIFIED:20251208T100827Z
UID:6335-1773014400-1773187199@endokrinologforeningen.se
SUMMARY:Nordic Pituitary Networking Meeting 2026
DESCRIPTION:Länk: https://ddeacademy.dk/events/networking/nordic-pituitary-networking-meeting-2026/ \nInfo (pdf) \nProgram (pdf)
URL:https://endokrinologforeningen.se/event/nordic-pituitary-networking-meeting-2026/
LOCATION:Ålborg\, Ålborg\, Denmark
CATEGORIES:Konferens
END:VEVENT
BEGIN:VEVENT
DTSTART;VALUE=DATE:20260317
DTEND;VALUE=DATE:20260319
DTSTAMP:20260422T222218
CREATED:20251208T101123Z
LAST-MODIFIED:20251208T101123Z
UID:6380-1773705600-1773878399@endokrinologforeningen.se
SUMMARY:DXA-kurs
DESCRIPTION:https://www.svenskfrakturprevention.se/dxa-kurs/
URL:https://endokrinologforeningen.se/event/dxa-kurs/
CATEGORIES:Kurs
END:VEVENT
BEGIN:VEVENT
DTSTART;VALUE=DATE:20260318
DTEND;VALUE=DATE:20260321
DTSTAMP:20260422T222218
CREATED:20250623T093224Z
LAST-MODIFIED:20250623T093509Z
UID:6230-1773792000-1774051199@endokrinologforeningen.se
SUMMARY:Endokrindagarna 2026
DESCRIPTION:https://endokrindagarna.se/
URL:https://endokrinologforeningen.se/event/endokrindagarna-2026/
LOCATION:Umeå\, Umeå
CATEGORIES:Konferens
END:VEVENT
BEGIN:VEVENT
DTSTART;VALUE=DATE:20260420
DTEND;VALUE=DATE:20260425
DTSTAMP:20260422T222218
CREATED:20250928T122943Z
LAST-MODIFIED:20250928T122943Z
UID:6302-1776643200-1777075199@endokrinologforeningen.se
SUMMARY:SK-kurs: Omhändertagande i samband med kirurgi av endokrina tumörer.
DESCRIPTION:Länk: https://sk-kurser.socialstyrelsen.se/enrol/index.php?id=1742
URL:https://endokrinologforeningen.se/event/sk-kurs-omhandertagande-i-samband-med-kirurgi-av-endokrina-tumorer/
LOCATION:Stockholm\, Stockholm\, Sverige
CATEGORIES:Kurs
END:VEVENT
BEGIN:VEVENT
DTSTART;VALUE=DATE:20260504
DTEND;VALUE=DATE:20260509
DTSTAMP:20260422T222218
CREATED:20251008T080815Z
LAST-MODIFIED:20251008T080815Z
UID:6315-1777852800-1778284799@endokrinologforeningen.se
SUMMARY:CONSUL-kurs Diabetes och lipidsjukdomar
DESCRIPTION:Inbjudan (pdf) \nAnmälningsblankett (pdf)
URL:https://endokrinologforeningen.se/event/consul-kurs-diabetes-och-lipidsjukdomar/
LOCATION:Lund\, Lund
CATEGORIES:Kurs
END:VEVENT
BEGIN:VEVENT
DTSTART;VALUE=DATE:20260506
DTEND;VALUE=DATE:20260507
DTSTAMP:20260422T222218
CREATED:20251208T101226Z
LAST-MODIFIED:20251208T101226Z
UID:6382-1778025600-1778111999@endokrinologforeningen.se
SUMMARY:VFA-kurs för kotfraktur-diagnostik
DESCRIPTION:https://www.svenskfrakturprevention.se/vfa-kurs/
URL:https://endokrinologforeningen.se/event/vfa-kurs-for-kotfraktur-diagnostik/
CATEGORIES:Kurs
END:VEVENT
BEGIN:VEVENT
DTSTART;VALUE=DATE:20260509
DTEND;VALUE=DATE:20260513
DTSTAMP:20260422T222218
CREATED:20251127T135158Z
LAST-MODIFIED:20251127T135158Z
UID:6366-1778284800-1778630399@endokrinologforeningen.se
SUMMARY:European Congress of Endocrinology (ECE)
DESCRIPTION:European Congress of Endocrinology (ECE) 2026 – abstraktinlämning och registrering är nu öppen\nEuropean Society of Endocrinology (ESE) bjuder in till ECE 2026\, som ägerrum 9–12 maj 2026 i Prag\, Tjeckien\, med möjlighet att delta online via ECE@HOME. Kongressen samlar endokrinologer\, forskare och experter för att dela kunskap och forskning inom endokrinologi.\nDet preliminära programmet finns tillgängligt\, liksom information om förkongress-evenemang. Besök ECE 2026:s webbplats för detaljer (https://www.ese-hormones.org/education-and-training/european-congress-of-endocrinology/ece2026/).\nMedlemskap och avgifter:\nFörmånliga registreringsavgifter gäller för ESE-medlemmar. Ansökan för medlemskap 2026 är öppen. Medlemmar i nationella föreningar får reducerad avgift\, med ytterligare rabatter för studenter\, yngre forskare och sjuksköterskor.\nViktiga datum:\n \n\nAbstraktdeadline: 20 januari 2026 (23:59 CET)\nEarly Bird: 31 mars 2026 (23:59 CEST)\nOrdinarie registrering: 21 april 2026 (23:59 CEST)\nKongress: 9–12 maj 2026
URL:https://endokrinologforeningen.se/event/european-congress-of-endocrinology-ece/
LOCATION:Prague Congress Centre\, Prague\, Tjekien
CATEGORIES:Konferens
END:VEVENT
BEGIN:VEVENT
DTSTART;VALUE=DATE:20260528
DTEND;VALUE=DATE:20260529
DTSTAMP:20260422T222218
CREATED:20260420T081353Z
LAST-MODIFIED:20260420T081353Z
UID:6449-1779926400-1780012799@endokrinologforeningen.se
SUMMARY:Spotlight on Science: Sex differences in research
DESCRIPTION:Webinar: https://www.ese-hormones.org/education-and-training/events-key-dates/sos-sexdifferences/
URL:https://endokrinologforeningen.se/event/spotlight-on-science-sex-differences-in-research/
CATEGORIES:Kurs
END:VEVENT
BEGIN:VEVENT
DTSTART;VALUE=DATE:20260601
DTEND;VALUE=DATE:20260603
DTSTAMP:20260422T222218
CREATED:20260202T120724Z
LAST-MODIFIED:20260202T120724Z
UID:6402-1780272000-1780444799@endokrinologforeningen.se
SUMMARY:Head&Neck Ultraljudskurs
DESCRIPTION:Länk: https://gaudendo.se/sv/ultraljudskurser/
URL:https://endokrinologforeningen.se/event/headneck-ultraljudskurs/
LOCATION:Winery Hotel\, Stockholm
CATEGORIES:Kurs
END:VEVENT
BEGIN:VEVENT
DTSTART;VALUE=DATE:20260705
DTEND;VALUE=DATE:20260709
DTSTAMP:20260422T222218
CREATED:20260420T081602Z
LAST-MODIFIED:20260420T081602Z
UID:6451-1783209600-1783555199@endokrinologforeningen.se
SUMMARY:ESE Summer School 2026
DESCRIPTION:https://www.ese-hormones.org/education-and-training/events-key-dates/ese-summer-school-2026/
URL:https://endokrinologforeningen.se/event/ese-summer-school-2026/
LOCATION:Innsbruck\, Austria
CATEGORIES:Kurs
END:VEVENT
BEGIN:VEVENT
DTSTART;VALUE=DATE:20260904
DTEND;VALUE=DATE:20260907
DTSTAMP:20260422T222218
CREATED:20260420T081738Z
LAST-MODIFIED:20260420T081738Z
UID:6454-1788480000-1788739199@endokrinologforeningen.se
SUMMARY:13th ESE Young Endocrinologists and Scientists (EYES) Meeting
DESCRIPTION:https://www.ese-hormones.org/education-and-training/events-key-dates/13th-ese-young-endocrinologists-and-scientists-eyes-meeting-2026/
URL:https://endokrinologforeningen.se/event/13th-ese-young-endocrinologists-and-scientists-eyes-meeting/
LOCATION:Belgrad\, Serbia
CATEGORIES:Konferens
END:VEVENT
BEGIN:VEVENT
DTSTART;VALUE=DATE:20260917
DTEND;VALUE=DATE:20260921
DTSTAMP:20260422T222218
CREATED:20260420T081937Z
LAST-MODIFIED:20260420T081937Z
UID:6457-1789603200-1789948799@endokrinologforeningen.se
SUMMARY:Postgraduate Training Course in Endocrinology\, Diabetes and Metabolism
DESCRIPTION:https://www.ese-hormones.org/education-and-training/events-key-dates/39th-ese-postgraduate-training-course-vilnius-lithuania-2026/
URL:https://endokrinologforeningen.se/event/postgraduate-training-course-in-endocrinology-diabetes-and-metabolism/
LOCATION:Vilnius\, Lithuania
CATEGORIES:Kurs
END:VEVENT
BEGIN:VEVENT
DTSTART;VALUE=DATE:20260923
DTEND;VALUE=DATE:20260926
DTSTAMP:20260422T222218
CREATED:20260202T121030Z
LAST-MODIFIED:20260202T121030Z
UID:6406-1790121600-1790380799@endokrinologforeningen.se
SUMMARY:SYED 2026
DESCRIPTION:Örebro
URL:https://endokrinologforeningen.se/event/syed-2026/
LOCATION:Örebro\, Örebro
CATEGORIES:Kurs
END:VEVENT
BEGIN:VEVENT
DTSTART;VALUE=DATE:20261012
DTEND;VALUE=DATE:20261017
DTSTAMP:20260422T222218
CREATED:20260304T161528Z
LAST-MODIFIED:20260304T161528Z
UID:6418-1791763200-1792195199@endokrinologforeningen.se
SUMMARY:Consulkurs Hypofys
DESCRIPTION:Information: https://www.spesialisthelsetjenesten.no/lis/kurs-for-leger-i-spesialisering/hypofysesykdommer-gonadesykdommer-binyresykdommer-og-elektrolyttforstyrrelser-end
URL:https://endokrinologforeningen.se/event/consulkurs-hypofys/
LOCATION:Ullevål\, Oslo
CATEGORIES:Kurs
END:VEVENT
BEGIN:VEVENT
DTSTART;VALUE=DATE:20261130
DTEND;VALUE=DATE:20261203
DTSTAMP:20260422T222218
CREATED:20260420T082103Z
LAST-MODIFIED:20260420T082103Z
UID:6460-1795996800-1796255999@endokrinologforeningen.se
SUMMARY:EuroPit 2026
DESCRIPTION:https://www.ese-hormones.org/education-and-training/events-key-dates/europit-2026/
URL:https://endokrinologforeningen.se/event/europit-2026/
LOCATION:Annecy\, France
CATEGORIES:Konferens
END:VEVENT
END:VCALENDAR