BEGIN:VCALENDAR
VERSION:2.0
PRODID:-//SEF - ECPv6.10.2//NONSGML v1.0//EN
CALSCALE:GREGORIAN
METHOD:PUBLISH
X-WR-CALNAME:SEF
X-ORIGINAL-URL:https://endokrinologforeningen.se
X-WR-CALDESC:Händelser för SEF
REFRESH-INTERVAL;VALUE=DURATION:PT1H
X-Robots-Tag:noindex
X-PUBLISHED-TTL:PT1H
BEGIN:VTIMEZONE
TZID:UTC
BEGIN:STANDARD
TZOFFSETFROM:+0000
TZOFFSETTO:+0000
TZNAME:UTC
DTSTART:20230101T000000
END:STANDARD
END:VTIMEZONE
BEGIN:VEVENT
DTSTART;VALUE=DATE:20231122
DTEND;VALUE=DATE:20231124
DTSTAMP:20260423T095038
CREATED:20230622T094324Z
LAST-MODIFIED:20230622T094324Z
UID:5218-1700611200-1700783999@endokrinologforeningen.se
SUMMARY:Kurs för ST-läkare i andrologi
DESCRIPTION:Svensk andrologisk förening (SAF) har nyligen haft den första kursen för ST-läkare i endokrinologi\, urologi\, allmänmedicinin och blivande reproduktionsmedicinare\, och den var mycket uppskattad. I höst håller vi den på nytt onsdag-torsdag 22-23 november\, även denna gång i Stockholm. \nMer information kommer efter sommaren.
URL:https://endokrinologforeningen.se/event/kurs-for-st-lakare-i-andrologi/
LOCATION:Stockholm\, Stockholm\, Sverige
CATEGORIES:Kurs
END:VEVENT
BEGIN:VEVENT
DTSTART;VALUE=DATE:20231130
DTEND;VALUE=DATE:20231201
DTSTAMP:20260423T095038
CREATED:20231102T090345Z
LAST-MODIFIED:20231102T090345Z
UID:5322-1701302400-1701388799@endokrinologforeningen.se
SUMMARY:Sista anmälningsdag för utbildningen till tyreoideasjuksköterska
DESCRIPTION:https://www.gu.se/medicin/studera-hos-oss/uppdragsutbildningar
URL:https://endokrinologforeningen.se/event/sista-anmalningsdag-for-utbildningen-till-tyreoideasjukskoterska/
CATEGORIES:Kurs
END:VEVENT
BEGIN:VEVENT
DTSTART;TZID=UTC:20231201T090000
DTEND;TZID=UTC:20231201T160000
DTSTAMP:20260423T095038
CREATED:20230613T124700Z
LAST-MODIFIED:20230613T124700Z
UID:5209-1701421200-1701446400@endokrinologforeningen.se
SUMMARY:Klinisk transmedicin - en introduktion
DESCRIPTION:Om kursen \nKönsdysfori är en term som beskriver det lidande som kan uppstå när en individs könsidentitet inte är kongruent med det juridiska kön personen tilldelats vid födseln. Denna utbildning vänder sig till dig som i din yrkesutövning träffar på personer med transerfarenhet. Kursen är en bred introduktion till det transmedicinska fältet för yrkesverksamma. Målet med kursen är att du som deltagare ska erbjudas ökad kunskap och förståelse kring diagnos\, bemötande\, utredning och behandling av transpersoner som söker vård. \nTid och plats\nHeldag på distans via Zoom kl. 9-16 under följande dagar 2023:\n20 oktober\, 10 november\, 1 december och 15 december. \nMålgrupp\nYrkesverksamma kliniker som i sin yrkesutövning kan möta personer med könsinkongruens.\nhttps://utbildning.ki.se/uppdragsutbildning/kursutbud/klinisk-transmedicin-en-introduktion-ht23
URL:https://endokrinologforeningen.se/event/klinisk-transmedicin-en-introduktion-3/
CATEGORIES:Kurs
END:VEVENT
BEGIN:VEVENT
DTSTART;VALUE=DATE:20231211
DTEND;VALUE=DATE:20231215
DTSTAMP:20260423T095038
CREATED:20231027T084053Z
LAST-MODIFIED:20231027T084053Z
UID:5302-1702252800-1702598399@endokrinologforeningen.se
SUMMARY:Översiktskurs i endokrinologi och diabetes
DESCRIPTION:Kursledare Jarl Hellman. LIPUS-certifikat ingår och kursens huvudfokus är ST-läkare med olika bakgrund inklusive blivande endokrinologer. \nhttps://www.uu.se/utbildning/for-yrkesverksamma/uppdragsutbildning/medicin-och-sjukvard/oversiktskurs-i-endokrinologi-och-diabetologi
URL:https://endokrinologforeningen.se/event/oversiktskurs-i-endokrinologi-och-diabetes/
LOCATION:Uppsala\, Uppsala\, Sverige
CATEGORIES:Kurs
END:VEVENT
BEGIN:VEVENT
DTSTART;TZID=UTC:20231215T090000
DTEND;TZID=UTC:20231215T160000
DTSTAMP:20260423T095038
CREATED:20230613T124745Z
LAST-MODIFIED:20230613T124745Z
UID:5211-1702630800-1702656000@endokrinologforeningen.se
SUMMARY:Klinisk transmedicin - en introduktion
DESCRIPTION:Om kursen \nKönsdysfori är en term som beskriver det lidande som kan uppstå när en individs könsidentitet inte är kongruent med det juridiska kön personen tilldelats vid födseln. Denna utbildning vänder sig till dig som i din yrkesutövning träffar på personer med transerfarenhet. Kursen är en bred introduktion till det transmedicinska fältet för yrkesverksamma. Målet med kursen är att du som deltagare ska erbjudas ökad kunskap och förståelse kring diagnos\, bemötande\, utredning och behandling av transpersoner som söker vård. \nTid och plats\nHeldag på distans via Zoom kl. 9-16 under följande dagar 2023:\n20 oktober\, 10 november\, 1 december och 15 december. \nMålgrupp\nYrkesverksamma kliniker som i sin yrkesutövning kan möta personer med könsinkongruens.\nhttps://utbildning.ki.se/uppdragsutbildning/kursutbud/klinisk-transmedicin-en-introduktion-ht23
URL:https://endokrinologforeningen.se/event/klinisk-transmedicin-en-introduktion-4/
CATEGORIES:Kurs
END:VEVENT
BEGIN:VEVENT
DTSTART;TZID=UTC:20240221T150000
DTEND;TZID=UTC:20240221T163000
DTSTAMP:20260423T095038
CREATED:20240115T085051Z
LAST-MODIFIED:20240115T102808Z
UID:5453-1708527600-1708533000@endokrinologforeningen.se
SUMMARY:Webinar\, William F. Young: Adrenal Board Review (binjure-Quiz)
DESCRIPTION:Professor William F. Young Jr.\, Mayo Clinic\, är en världsauktoritet inom endokrinologi\, framför allt binjuresjukdomar\, och en fantastisk föreläsare. \nVi erbjuder under våren två föreläsningar online för oss svenska endokrinologer. \nLänk till anmälan (öppnas i nytt fönster) \nInformation om föreläsningsserie (pdf\, öppnas i nytt fönster)
URL:https://endokrinologforeningen.se/event/adrenal-board-review-quiz-med-flervalsfragor-om-binjuresjukdomar/
CATEGORIES:Kurs
END:VEVENT
BEGIN:VEVENT
DTSTART;TZID=UTC:20240410T150000
DTEND;TZID=UTC:20240410T163000
DTSTAMP:20260423T095038
CREATED:20240115T085159Z
LAST-MODIFIED:20240115T102708Z
UID:5455-1712761200-1712766600@endokrinologforeningen.se
SUMMARY:Webinar\, William F. Young: "Thomas Addison: The Man and the Monograph"
DESCRIPTION:Professor William F. Young Jr.\, Mayo Clinic\, är en världsauktoritet inom endokrinologi\, framför allt binjuresjukdomar\, och en fantastisk föreläsare. \nVi erbjuder under våren två föreläsningar online för oss svenska endokrinologer. \nLänk till anmälan (öppnas i nytt fönster) \nInformation om föreläsningsserie (pdf\, öppnas i nytt fönster)
URL:https://endokrinologforeningen.se/event/thomas-addison-the-man-and-the-monograph/
CATEGORIES:Kurs
END:VEVENT
BEGIN:VEVENT
DTSTART;VALUE=DATE:20240417
DTEND;VALUE=DATE:20240420
DTSTAMP:20260423T095038
CREATED:20231027T084301Z
LAST-MODIFIED:20231027T084301Z
UID:5304-1713312000-1713571199@endokrinologforeningen.se
SUMMARY:Vetenskapligt möte för SFD
DESCRIPTION:Vetenskapligt möte för SFD går av stapeln i Västerås 17-19/4 2024.
URL:https://endokrinologforeningen.se/event/vetenskapligt-mote-for-sfd/
LOCATION:Västerås\, Västerås\, Sverige
CATEGORIES:Konferens
END:VEVENT
BEGIN:VEVENT
DTSTART;VALUE=DATE:20240422
DTEND;VALUE=DATE:20240427
DTSTAMP:20260423T095038
CREATED:20230922T072736Z
LAST-MODIFIED:20231123T092819Z
UID:5276-1713744000-1714175999@endokrinologforeningen.se
SUMMARY:CONSUL diabetes och lipider
DESCRIPTION:v. 17 \nAnmälningsblankett (pdf\, öppnas i nytt fönster)
URL:https://endokrinologforeningen.se/event/consul-diabetes-och-lipider/
LOCATION:Malmö
CATEGORIES:Kurs
END:VEVENT
BEGIN:VEVENT
DTSTART;VALUE=DATE:20240506
DTEND;VALUE=DATE:20240508
DTSTAMP:20260423T095038
CREATED:20231120T124949Z
LAST-MODIFIED:20231120T124949Z
UID:5360-1714953600-1715126399@endokrinologforeningen.se
SUMMARY:Hands-on ultraljudskurs av halsens mjukdelar inklusive tyreoidea
DESCRIPTION:Information och anmälan (länk)
URL:https://endokrinologforeningen.se/event/hands-on-ultraljudskurs-av-halsens-mjukdelar-inklusive-tyreoidea/
LOCATION:Stockholm\, Stockholm\, Sverige
CATEGORIES:Kurs
END:VEVENT
BEGIN:VEVENT
DTSTART;VALUE=DATE:20240511
DTEND;VALUE=DATE:20240512
DTSTAMP:20260423T095038
CREATED:20231123T151321Z
LAST-MODIFIED:20240214T133641Z
UID:5372-1715385600-1715471999@endokrinologforeningen.se
SUMMARY:Tyroidea ultraljudskurs i samband med ECE 2024
DESCRIPTION:Tereza Planck och Ola Lindgren från Malmö är kursledare. \nThyroid Ultrasound Pre-Congress Course | ESE (ese-hormones.org)
URL:https://endokrinologforeningen.se/event/tyroidea-ultraljudskurs-i-samband-med-ece-2024/
LOCATION:Stockholm\, Stockholm\, Sverige
CATEGORIES:Kurs
END:VEVENT
BEGIN:VEVENT
DTSTART;VALUE=DATE:20240511
DTEND;VALUE=DATE:20240515
DTSTAMP:20260423T095038
CREATED:20231027T084702Z
LAST-MODIFIED:20240214T134504Z
UID:5307-1715385600-1715731199@endokrinologforeningen.se
SUMMARY:ECE 2024
DESCRIPTION:Abstract submission and Registration are open for ECE 2024\nAttracting over 4000 delegates\, from more than 100 countries\, the European Congress of Endocrinology (ECE) is the most important event in the European endocrine calendar. ECE 2024 will be held in Stockholm\, Sweden from 11–14 May 2024\, and will again be delivered via a hybrid Congress format: you can join us in person in Sweden\, or remotely via ECE@Home. \n  \nThe programme will feature diverse sessions across the breadth of our field\, with speakers discussing some of the most topical issues in endocrine research and clinical practice. \n  \nDelegates will also benefit from extensive networking opportunities with colleagues working across the spectrum of endocrinology\, helping you to foster new professional collaborations. \n  \nRegister today to be part of ECE 2024. \nView preliminary programme \nRegister today! \n\nAbstract submission deadline: Monday 22 January 2024 23:59 (CET)\nSuper Early Bird registration deadline: Monday 25 March 2024 23:59 (CET)\nEarly Bird registration deadline: Monday 22 April 2024 23:59 (CEST)\n\nECE 2024 KEY DATES AND DEADLINES \nLate-breaking Abstract submission deadline: 26 February 2024 (23:59 CET)\nSuper Early Bird registration deadline: 25 March 2024 (23:59 CET)\nEarly Bird registration deadline: 22 April 2024 (23:59 CEST)\nCongress: 11-14 May 2024
URL:https://endokrinologforeningen.se/event/ece-2024/
LOCATION:Stockholm\, Stockholm\, Sverige
CATEGORIES:Konferens
END:VEVENT
BEGIN:VEVENT
DTSTART;VALUE=DATE:20240520
DTEND;VALUE=DATE:20240525
DTSTAMP:20260423T095038
CREATED:20240214T133518Z
LAST-MODIFIED:20240214T133518Z
UID:5517-1716163200-1716595199@endokrinologforeningen.se
SUMMARY:Postgraduate Course: GH and Growth Factors Metabolic Disorders
DESCRIPTION:Anmälning och information: PGV 24 application form (word)
URL:https://endokrinologforeningen.se/event/postgraduate-course-gh-and-growth-factors-metabolic-disorders/
LOCATION:Göteborg\, Göteborg\, Sverige
CATEGORIES:Kurs
END:VEVENT
BEGIN:VEVENT
DTSTART;VALUE=DATE:20240906
DTEND;VALUE=DATE:20240909
DTSTAMP:20260423T095038
CREATED:20240103T105743Z
LAST-MODIFIED:20240103T105743Z
UID:5437-1725580800-1725839999@endokrinologforeningen.se
SUMMARY:EYES 2024
DESCRIPTION:We warmly invite you to save the date for the upcoming European Young Endocrinologists & Scientists (EYES) Meeting held in Helsinki\, Finland from September 6th to 8th\, 2024. \nThe annual EYES meeting provides a unique forum for early career clinicians and scientists (<10 years post-PhD\, post-specialisation\, Masters/PhD student or a clinician in-training) in the field of endocrinology and diabetes. \nOver the three-day event we will hear presentations from participants and experts covering topics such as classification and genetics of diabetes\, PET imaging and MEN1 syndrome. \nWe encourage you to submit your abstract on original scientific research or clinical patient case reports on the following topics: Adrenal and Cardiovascular Endocrinology; Thyroid; Calcium and Bone; Diabetes\, Obesity and Metabolism; Interdisciplinary Endocrinology; Pituitary and Neuroendocrinology; Reproductive Endocrinology; Environment\, Society and Governance. \nAn essential part of the EYES meetings is the opportunity to connect with colleagues from all around Europe. For this\, we have put together an exciting social programme. \nRegistration fee for the meeting is 150€ and this covers accommodation\, meals\, and participation in the social programme. \nYou can find more information in the future on our website http://www.endo.fi/eyes2024  and social media. Follow us on Instagram: EYESHelsinki2024 and X: EYESFinland2024 \nLocal Organising Committee of EYES Meeting 2024 \nThe EYES Committee is a working group within the European Endocrine Society (ESE) that oversees early career members’ affairs and connects aspiring endocrinologists to improve education and provide networking opportunities.\nhttps://www.ese-hormones.org/about-us/committees-and-boards/ese-young-endocrinologists-scientists-eyes-committee/ \nThe ESE offers meeting grants to participate in the EYES meeting: \nhttps://www.ese-hormones.org/what-we-do/grants-endorsements/meeting-grants/
URL:https://endokrinologforeningen.se/event/eyes-2024/
LOCATION:Helsinki\, Finland\, Helsinki\, Finland
CATEGORIES:Konferens
END:VEVENT
BEGIN:VEVENT
DTSTART;VALUE=DATE:20240916
DTEND;VALUE=DATE:20240919
DTSTAMP:20260423T095038
CREATED:20240223T073600Z
LAST-MODIFIED:20240223T073600Z
UID:5537-1726444800-1726703999@endokrinologforeningen.se
SUMMARY:SYED 2024
DESCRIPTION:Årets ämnen blir:\nBinjurebarkssvikt – Per Dahlqvist\nInsulinpumpsbehandling och CGM-tolkning – Jarl Hellman\nHypertyreos – Jan Calissendorff\nTAO – Frank Träisk\nPrimär aldosteronism och feokromocytom – William F Young \nhttps://www.trippus.net/syed2024 \n 
URL:https://endokrinologforeningen.se/event/syed-2024/
LOCATION:Umeå\, Umeå
CATEGORIES:Kurs
END:VEVENT
BEGIN:VEVENT
DTSTART;VALUE=DATE:20240927
DTEND;VALUE=DATE:20240928
DTSTAMP:20260423T095038
CREATED:20240716T133149Z
LAST-MODIFIED:20240716T133149Z
UID:5761-1727395200-1727481599@endokrinologforeningen.se
SUMMARY:Klinisk transmedicin – en introduktion\, HT24
DESCRIPTION:Denna kurs riktar sig till dig som är yrkesverksam kliniker oavsett profession som i ditt arbete kan möta vuxna personer med könsinkongruens. Kursen erbjuder kliniker fördjupad kunskap om könsinkongruens som tillstånd\, transmedicinsk utredning och olika behandlingsalternativ för vuxna med könsinkongruens. Kursens arbetsformer sker via online-föreläsningar och seminarier av olika professioner inom det transmedicinska fältet. \nhttps://utbildning.ki.se/uppdragsutbildning/kursutbud/klinisk-transmedicin-en-introduktion-ht24
URL:https://endokrinologforeningen.se/event/klinisk-transmedicin-en-introduktion-ht24/
LOCATION:Digital meeting
CATEGORIES:Kurs
END:VEVENT
BEGIN:VEVENT
DTSTART;VALUE=DATE:20241014
DTEND;VALUE=DATE:20241019
DTSTAMP:20260423T095038
CREATED:20240305T075504Z
LAST-MODIFIED:20240305T075504Z
UID:5554-1728864000-1729295999@endokrinologforeningen.se
SUMMARY:CONSUL-kurs: Hypofys-\, gonad-\, binjuresjudomar och elektrolytrubbningar
DESCRIPTION:Vecka 42 i Oslo\, Ullevål stadion.\nKursen kostar 9700 NOK\, inklusive lunch varje dag.\nVi har sedan 2020 haft denna kurs som SK-kurs för svenska deltagare\, men i och med att kursen nu går i Norge har den inte upphandlats av Socialstyrelsen och finns inte i deras kurskatalog.\nKursen är därför denna gång en Consul-kurs och deltagarna anmäler sig via Regionalt Utdanningssenter for leger i specialisering på Oslo Universitetssykehus\, se länk nedanför där det också finns information om kursen.\nhttps://www.spesialisthelsetjenesten.no/lis/kurs-for-leger-i-spesialisering/hypofysesykdommer-gonadesykdommer-binyresykdommer-og-elektrolyttforstyrrelser-end/
URL:https://endokrinologforeningen.se/event/consul-kurs-hypofys-gonad-binjuresjudomar-och-elektrolytrubbningar/
LOCATION:Ullevål\, Oslo
CATEGORIES:Kurs
END:VEVENT
BEGIN:VEVENT
DTSTART;VALUE=DATE:20241017
DTEND;VALUE=DATE:20241020
DTSTAMP:20260423T095038
CREATED:20240627T092346Z
LAST-MODIFIED:20240627T092346Z
UID:5728-1729123200-1729382399@endokrinologforeningen.se
SUMMARY:Adrenal failure: update on causes\, diagnosis\, treatment\, crisis and life expectancy
DESCRIPTION:RRD foundation Stockholm (pdf\, öppnas i nytt fönster) \nProgram (pdf\, öppnas i nytt fönster)
URL:https://endokrinologforeningen.se/event/adrenal-failure-update-on-causes-diagnosis-treatment-crisis-and-life-expectancy/
LOCATION:Stockholm\, Stockholm\, Sverige
CATEGORIES:Kurs
END:VEVENT
BEGIN:VEVENT
DTSTART;VALUE=DATE:20241118
DTEND;VALUE=DATE:20241120
DTSTAMP:20260423T095038
CREATED:20240605T065848Z
LAST-MODIFIED:20240605T065941Z
UID:5684-1731888000-1732060799@endokrinologforeningen.se
SUMMARY:Hands-on ultraljudskurs av halsens mjukdelar inklusive tyreoidea
DESCRIPTION:Flyer (pdf\, öppnas i nytt fönster)
URL:https://endokrinologforeningen.se/event/hands-on-ultraljudskurs-av-halsens-mjukdelar-inklusive-tyreoidea-2/
LOCATION:Winery Hotel\, Stockholm
CATEGORIES:Kurs
END:VEVENT
BEGIN:VEVENT
DTSTART;VALUE=DATE:20241120
DTEND;VALUE=DATE:20241122
DTSTAMP:20260423T095038
CREATED:20240716T132909Z
LAST-MODIFIED:20240716T132909Z
UID:5758-1732060800-1732233599@endokrinologforeningen.se
SUMMARY:Kurs i andrologi för ST-läkare
DESCRIPTION:Program (pdf\, öppnas i nytt fönster) \nKostnad: 5000 sek \nAnmälan sker till: svandrologi@gmail.com
URL:https://endokrinologforeningen.se/event/kurs-i-andrologi-for-st-lakare/
LOCATION:Karolinska universitetssjukhuset\, Solna\, Eugeniavägen 3\, Solna\, 17164\, Sverige
CATEGORIES:Kurs
END:VEVENT
BEGIN:VEVENT
DTSTART;TZID=UTC:20241128T090000
DTEND;TZID=UTC:20241128T160000
DTSTAMP:20260423T095038
CREATED:20240417T134010Z
LAST-MODIFIED:20240614T083743Z
UID:5638-1732784400-1732809600@endokrinologforeningen.se
SUMMARY:Endokrinologisk Transvård HT 2024
DESCRIPTION:Könsdysfori är en term som beskriver det lidande som kan uppstå när en individs könsidentitet inte är kongruent med det juridiska kön personen tilldelats vid födseln. Denna utbildning vänder sig till dig som i din yrkesutövning träffar personer med transerfarenhet. Kursen är en grundkurs I hormonell behandling av vuxna personer med könsdysfori. Målet med kursen är att du som deltagare ska erbjudas ökad kunskap och förståelse kring hormonell behandling av transpersoner som söker vård. \nHeldag på distans via Zoom kl. 9-16 under den 28/11 2024 \nutbildning.ki.se/uppdragsutbildning/kursutbud/endokrinologisk-transvard-ht-2024
URL:https://endokrinologforeningen.se/event/endokrinologisk-transvard-ht-2024/
CATEGORIES:Kurs
END:VEVENT
BEGIN:VEVENT
DTSTART;TZID=UTC:20241203T120000
DTEND;TZID=UTC:20241203T130000
DTSTAMP:20260423T095038
CREATED:20241115T075203Z
LAST-MODIFIED:20241115T075203Z
UID:5968-1733227200-1733230800@endokrinologforeningen.se
SUMMARY:Lunchföreläsning - Svenska Osteoporossällskapet
DESCRIPTION:Andreas Kindmark\, docent och överläkare i endokrinologi\, Akademiska sjukhuset\, Uppsala\, Primär hyperpara – Osteoporos. \n Gratis via zoom: https://svos.se/nyhet/lunchforelasning-3-12/
URL:https://endokrinologforeningen.se/event/lunchforelasning-svenska-osteoporossallskapet/
CATEGORIES:Kurs
END:VEVENT
BEGIN:VEVENT
DTSTART;VALUE=DATE:20250126
DTEND;VALUE=DATE:20250127
DTSTAMP:20260423T095038
CREATED:20241017T131034Z
LAST-MODIFIED:20241017T131034Z
UID:5914-1737849600-1737935999@endokrinologforeningen.se
SUMMARY:Årets endokrina avhandling + forskningsstipendier
DESCRIPTION:Årets endokrina avhandling + forskningsstipendier sista ansökningsdatum 26:e januari 2025
URL:https://endokrinologforeningen.se/event/arets-endokrina-avhandling-forskningsstipendier/
CATEGORIES:Kom ihåg
END:VEVENT
BEGIN:VEVENT
DTSTART;VALUE=DATE:20250201
DTEND;VALUE=DATE:20250202
DTSTAMP:20260423T095038
CREATED:20241017T131110Z
LAST-MODIFIED:20241217T134859Z
UID:5916-1738368000-1738454399@endokrinologforeningen.se
SUMMARY:Abstrakt till poster på Endodiabetes 2025
DESCRIPTION:Abstrakt till poster på Endodiabetes 2025 – sista ansökningsdatum 1 februari 2025
URL:https://endokrinologforeningen.se/event/abstrakt-till-poster-pa-endodiabetes-2025/
CATEGORIES:Kom ihåg
END:VEVENT
BEGIN:VEVENT
DTSTART;VALUE=DATE:20250326
DTEND;VALUE=DATE:20250329
DTSTAMP:20260423T095038
CREATED:20240423T102522Z
LAST-MODIFIED:20240524T075757Z
UID:5647-1742947200-1743206399@endokrinologforeningen.se
SUMMARY:EndoDiabetes 2025
DESCRIPTION:26-28 mars 2025 Konsert & kongress\, Linköping \nwww.endodiabetes.se
URL:https://endokrinologforeningen.se/event/endodiabetes-2025/
CATEGORIES:Konferens
ATTACH;FMTTYPE=image/jpeg:https://endokrinologforeningen.se/wp-content/uploads/2024/04/Trailer-Endodiabetes-2025.jpg
END:VEVENT
BEGIN:VEVENT
DTSTART;TZID=UTC:20250327T115500
DTEND;TZID=UTC:20250327T123500
DTSTAMP:20260423T095038
CREATED:20250214T080459Z
LAST-MODIFIED:20250214T080552Z
UID:6050-1743076500-1743078900@endokrinologforeningen.se
SUMMARY:Årsmöte för Svenska Endokrinologföreningen
DESCRIPTION:Årsmöte för Svenska Endokrinologföreningen hålls under EndoDiabetes 2025 den 27:e mars kl 11.55-12.35 Linköping Konsert & Kongress\, Konsistoriegatan 7\, Linköping.
URL:https://endokrinologforeningen.se/event/arsmote-for-svenska-endokrinologforeningen/
CATEGORIES:Konferens
ATTACH;FMTTYPE=image/png:https://endokrinologforeningen.se/wp-content/uploads/2020/11/favicon-SEF.png
END:VEVENT
BEGIN:VEVENT
DTSTART;VALUE=DATE:20250408
DTEND;VALUE=DATE:20250411
DTSTAMP:20260423T095038
CREATED:20250226T110526Z
LAST-MODIFIED:20250226T110526Z
UID:6082-1744070400-1744329599@endokrinologforeningen.se
SUMMARY:Utbildning om tyreotoxikos
DESCRIPTION:Webinarier med olika ämnen anordnat av European Society of Endocrinology.  \nAnmälan sker via nedan länk och anmälan är öppen nu. \nhttps://www.ese-hormones.org/education-and-training/events-key-dates/cu-management-of-thyrotoxicosis/
URL:https://endokrinologforeningen.se/event/utbildning-om-tyreotoxikos/
CATEGORIES:Kurs
END:VEVENT
BEGIN:VEVENT
DTSTART;TZID=UTC:20250507T150000
DTEND;TZID=UTC:20250507T163000
DTSTAMP:20260423T095038
CREATED:20250310T091513Z
LAST-MODIFIED:20250310T091513Z
UID:6101-1746630000-1746635400@endokrinologforeningen.se
SUMMARY:CAH – behandling och uppföljning
DESCRIPTION:Anna Nordenström\, professor/överläkare\, Karolinska Institutet och Henrik Falhammar\, docent/överläkare\, Karolinska Institutet \nWebinarium\, info och anmälan (PDF)
URL:https://endokrinologforeningen.se/event/cah-behandling-och-uppfoljning/
CATEGORIES:Kurs
END:VEVENT
BEGIN:VEVENT
DTSTART;VALUE=DATE:20250526
DTEND;VALUE=DATE:20250528
DTSTAMP:20260423T095038
CREATED:20241217T135527Z
LAST-MODIFIED:20241217T135625Z
UID:6016-1748217600-1748390399@endokrinologforeningen.se
SUMMARY:Ultraljudskurs av halsens mjukdelar inklusive tyreoidea och paratyreoidea
DESCRIPTION:Flygblad (pdf\, öppnas i nytt fönster)
URL:https://endokrinologforeningen.se/event/ultraljudskurs-av-halsens-mjukdelar-inklusive-tyreoidea-och-paratyreoidea/
LOCATION:Winery Hotel\, Stockholm
CATEGORIES:Kurs
END:VEVENT
BEGIN:VEVENT
DTSTART;TZID=UTC:20250603T150000
DTEND;TZID=UTC:20250603T163000
DTSTAMP:20260423T095038
CREATED:20250310T091740Z
LAST-MODIFIED:20250310T091740Z
UID:6105-1748962800-1748968200@endokrinologforeningen.se
SUMMARY:Revised Endocrine Society Guidelines for Managing Primary Aldosteronism
DESCRIPTION:William F. Young Jr.\, professor\, Mayo Clinic \nWebinarium\, info och anmälan (PDF)
URL:https://endokrinologforeningen.se/event/revised-endocrine-society-guidelines-for-managing-primary-aldosteronism/
CATEGORIES:Kurs
END:VEVENT
END:VCALENDAR