BEGIN:VCALENDAR
VERSION:2.0
PRODID:-//SEF - ECPv6.10.2//NONSGML v1.0//EN
CALSCALE:GREGORIAN
METHOD:PUBLISH
X-WR-CALNAME:SEF
X-ORIGINAL-URL:https://endokrinologforeningen.se
X-WR-CALDESC:Händelser för SEF
REFRESH-INTERVAL;VALUE=DURATION:PT1H
X-Robots-Tag:noindex
X-PUBLISHED-TTL:PT1H
BEGIN:VTIMEZONE
TZID:UTC
BEGIN:STANDARD
TZOFFSETFROM:+0000
TZOFFSETTO:+0000
TZNAME:UTC
DTSTART:20220101T000000
END:STANDARD
END:VTIMEZONE
BEGIN:VEVENT
DTSTART;VALUE=DATE:20220926
DTEND;VALUE=DATE:20221001
DTSTAMP:20260424T074332
CREATED:20220315T074933Z
LAST-MODIFIED:20220315T074933Z
UID:4807-1664150400-1664582399@endokrinologforeningen.se
SUMMARY:SK kurs: Det vanliga och det allvarliga inom endokrinologi och diabetes
DESCRIPTION:Mer information kommer senare.
URL:https://endokrinologforeningen.se/event/sk-kurs-det-vanliga-och-det-allvarliga-inom-endokrinologi-och-diabetes/
LOCATION:Göteborg\, Göteborg\, Sverige
CATEGORIES:Kurs
END:VEVENT
BEGIN:VEVENT
DTSTART;VALUE=DATE:20220928
DTEND;VALUE=DATE:20220929
DTSTAMP:20260424T074332
CREATED:20220608T114031Z
LAST-MODIFIED:20220608T114031Z
UID:4885-1664323200-1664409599@endokrinologforeningen.se
SUMMARY:Kurs i endokrinologi för sjuksköterskor
DESCRIPTION:Information och ansökan om kursplats på: https://www.gu.se/medicin/studera-hos-oss/uppdragsutbildningar
URL:https://endokrinologforeningen.se/event/kurs-i-endokrinologi-for-sjukskoterskor-2/
LOCATION:Göteborg\, Göteborg\, Sverige
CATEGORIES:Kurs
END:VEVENT
BEGIN:VEVENT
DTSTART;VALUE=DATE:20221005
DTEND;VALUE=DATE:20221008
DTSTAMP:20260424T074332
CREATED:20220124T113744Z
LAST-MODIFIED:20220504T113943Z
UID:4748-1664928000-1665187199@endokrinologforeningen.se
SUMMARY:SYED
DESCRIPTION:MODY\nDiabetes och graviditet\nDiabetesnefropati\nKalciumrubbningar och osteoporos\nMedfödda metabola sjukdomar\nEndokrina tillstånd och graviditet\n\nLänk till anmälan www.trippus.net/syed2022
URL:https://endokrinologforeningen.se/event/syed-3/
LOCATION:Uppsala\, Uppsala\, Sverige
CATEGORIES:Kurs
END:VEVENT
BEGIN:VEVENT
DTSTART;VALUE=DATE:20221017
DTEND;VALUE=DATE:20221022
DTSTAMP:20260424T074332
CREATED:20211025T142632Z
LAST-MODIFIED:20220414T073659Z
UID:4648-1665964800-1666396799@endokrinologforeningen.se
SUMMARY:Consul-kurs: Hypofys\, binjurar och gonader
DESCRIPTION:Ansökningsperiod till och med den 1 maj 2022- OBS!  SK Consul-kurs\n\nMer information:  https://sk-kurser.socialstyrelsen.se/enrol/index.php?id=1175\n 
URL:https://endokrinologforeningen.se/event/consul-kurs-hypofys-binjurar-och-gonader-2/
LOCATION:Stockholm\, Stockholm\, Sverige
CATEGORIES:Kurs
END:VEVENT
BEGIN:VEVENT
DTSTART;TZID=UTC:20221026T150000
DTEND;TZID=UTC:20221026T163000
DTSTAMP:20260424T074332
CREATED:20220929T154343Z
LAST-MODIFIED:20220929T154624Z
UID:4915-1666796400-1666801800@endokrinologforeningen.se
SUMMARY:William F Young: ”A selection of challenging adrenal cases”
DESCRIPTION:Webinar: \nFöreläsningsserie HT22 William F Young Jr (pdf\, öppnas i nytt fönster)
URL:https://endokrinologforeningen.se/event/william-f-young-a-selection-of-challenging-adrenal-cases/
CATEGORIES:Kurs
END:VEVENT
BEGIN:VEVENT
DTSTART;TZID=UTC:20221027T140000
DTEND;TZID=UTC:20221027T173000
DTSTAMP:20260424T074332
CREATED:20220817T092857Z
LAST-MODIFIED:20220817T092857Z
UID:4899-1666879200-1666891800@endokrinologforeningen.se
SUMMARY:Symposium: Understanding Hypothyroidism
DESCRIPTION:För registrering\, se bifogad dokument\n \nInvitation Scientific Symposium (pdf\, öppnas i nytt fönster)
URL:https://endokrinologforeningen.se/event/symposium-understanding-hypothyroidism/
LOCATION:Clarion Hotel Post\, Drottningtorget 10\, Göteborg\, 41103\, Sverige
CATEGORIES:Kurs
END:VEVENT
BEGIN:VEVENT
DTSTART;TZID=UTC:20221130T150000
DTEND;TZID=UTC:20221130T163000
DTSTAMP:20260424T074332
CREATED:20220929T154510Z
LAST-MODIFIED:20220929T154557Z
UID:4917-1669820400-1669825800@endokrinologforeningen.se
SUMMARY:William F Young: ”Hyperprolactinemia master class”
DESCRIPTION:Webinar: \nFöreläsningsserie HT22 William F Young Jr (pdf\, öppnas i nytt fönster)
URL:https://endokrinologforeningen.se/event/william-f-young-hyperprolactinemia-master-class/
CATEGORIES:Kurs
END:VEVENT
BEGIN:VEVENT
DTSTART;TZID=UTC:20230301T150000
DTEND;TZID=UTC:20230301T163000
DTSTAMP:20260424T074332
CREATED:20230125T075845Z
LAST-MODIFIED:20230125T075845Z
UID:5001-1677682800-1677688200@endokrinologforeningen.se
SUMMARY:William F. Young Jr. "Case-based update on endocrine hypertension"
DESCRIPTION:Webinar \nLänk till anmälan:\nhttps://forms.office.com/pages/responsepage.aspx?id=-aZLWjH1Mk-UZzmPGead5PTiO03jEjtErKq9ToII8rFUMU9STTAzSVZKOVpNOTdWS1Y2V0swT1JPTS4u
URL:https://endokrinologforeningen.se/event/william-f-young-jr-case-based-update-on-endocrine-hypertension/
CATEGORIES:Kurs
END:VEVENT
BEGIN:VEVENT
DTSTART;TZID=UTC:20230412T150000
DTEND;TZID=UTC:20230412T163000
DTSTAMP:20260424T074332
CREATED:20230125T075948Z
LAST-MODIFIED:20230125T075948Z
UID:5003-1681311600-1681317000@endokrinologforeningen.se
SUMMARY:William F. Young Jr. "Adventures in adrenal venous sampling"
DESCRIPTION:Webinar \nLänk till anmälan:\nhttps://forms.office.com/pages/responsepage.aspx?id=-aZLWjH1Mk-UZzmPGead5PTiO03jEjtErKq9ToII8rFUMU9STTAzSVZKOVpNOTdWS1Y2V0swT1JPTS4u
URL:https://endokrinologforeningen.se/event/william-f-young-jr-adventures-in-adrenal-venous-sampling/
CATEGORIES:Kurs
END:VEVENT
BEGIN:VEVENT
DTSTART;TZID=UTC:20230417T140000
DTEND;TZID=UTC:20230417T153000
DTSTAMP:20260424T074332
CREATED:20230310T151902Z
LAST-MODIFIED:20230310T151902Z
UID:5121-1681740000-1681745400@endokrinologforeningen.se
SUMMARY:Nationellt webbinarium – långtidsuppföljning efter barncancer
DESCRIPTION:RCC Syd bjuder in till ett webbinarium om det nationella vårdprogrammet för långtidsuppföljning efter barncancer\, som uppdaterats under senaste året. Vårdprogrammet inkluderar alla som fått cancerbehandling som barn och fram till 18 års ålder. \nTid: 17 april 14:00 – 15:30 Plats: Teams \nLäs mer och anmälan: Webbinarium om långtidsuppföljning efter barncancer – RCC (cancercentrum.se)
URL:https://endokrinologforeningen.se/event/nationellt-webbinarium-langtidsuppfoljning-efter-barncancer/
CATEGORIES:Kurs
END:VEVENT
BEGIN:VEVENT
DTSTART;TZID=UTC:20230424T130000
DTEND;TZID=UTC:20230424T143000
DTSTAMP:20260424T074332
CREATED:20230406T091411Z
LAST-MODIFIED:20230406T091411Z
UID:5159-1682341200-1682346600@endokrinologforeningen.se
SUMMARY:Behandling radioaktivt jod och strålskydd vid hypertyreos
DESCRIPTION:Digitalt fördjupningsseminarium om behandling med radioaktivt jod och strålskydd 24 april \nhttps://kunskapsstyrningvard.se/kunskapsstyrningvard/omkunskapsstyrning/evenemang/kalenderhandelse/behandlingradioaktivtjodochstralskyddvidhypertyreos.70005.html \nDet digitala seminariet kommer inte att spelas in\, men presentationen kommer att publiceras i PDF format. \nInnehåll\nVid seminariet ges fördjupad information och kunskap om behandling med radioaktivt jod och strålskydd. Syftet är att ge ett stöd för införande och tillämpning vid diagnosen hypertyreos och behandling med radioaktivt jod.
URL:https://endokrinologforeningen.se/event/behandling-radioaktivt-jod-och-stralskydd-vid-hypertyreos/
CATEGORIES:Kurs
END:VEVENT
BEGIN:VEVENT
DTSTART;VALUE=DATE:20230504
DTEND;VALUE=DATE:20230506
DTSTAMP:20260424T074332
CREATED:20230303T071202Z
LAST-MODIFIED:20230303T071202Z
UID:5072-1683158400-1683331199@endokrinologforeningen.se
SUMMARY:Andrologi ST kurs
DESCRIPTION:Information och anmälan (pdf\, öppnas i nytt fönster)
URL:https://endokrinologforeningen.se/event/andrologi-st-kurs/
LOCATION:Karolinska universitetssjukhuset\, Solna\, Eugeniavägen 3\, Solna\, 17164\, Sverige
CATEGORIES:Kurs
END:VEVENT
BEGIN:VEVENT
DTSTART;VALUE=DATE:20230513
DTEND;VALUE=DATE:20230517
DTSTAMP:20260424T074332
CREATED:20221018T130425Z
LAST-MODIFIED:20230127T082422Z
UID:4931-1683936000-1684281599@endokrinologforeningen.se
SUMMARY:ECE- European Congress of Endocrinology
DESCRIPTION:Mer information https://www.ese-hormones.org/events-deadlines/european-congress-of-endocrinology/ece-2023/
URL:https://endokrinologforeningen.se/event/ece-european-congress-of-endocrinology-2/
LOCATION:Istanbul
CATEGORIES:Konferens
END:VEVENT
BEGIN:VEVENT
DTSTART;TZID=UTC:20230524T150000
DTEND;TZID=UTC:20230524T163000
DTSTAMP:20260424T074332
CREATED:20230125T080150Z
LAST-MODIFIED:20230125T080150Z
UID:5005-1684940400-1684945800@endokrinologforeningen.se
SUMMARY:William F. Young Jr. "Adrenal e-mail consults—the questions\, the answers"
DESCRIPTION:Webinar \nLänk till anmälan:\nhttps://forms.office.com/pages/responsepage.aspx?id=-aZLWjH1Mk-UZzmPGead5PTiO03jEjtErKq9ToII8rFUMU9STTAzSVZKOVpNOTdWS1Y2V0swT1JPTS4u
URL:https://endokrinologforeningen.se/event/william-f-young-jr-adrenal-e-mail-consults-the-questions-the-answers/
CATEGORIES:Kurs
END:VEVENT
BEGIN:VEVENT
DTSTART;VALUE=DATE:20230531
DTEND;VALUE=DATE:20230603
DTSTAMP:20260424T074332
CREATED:20221018T130559Z
LAST-MODIFIED:20230127T080027Z
UID:4934-1685491200-1685750399@endokrinologforeningen.se
SUMMARY:Endokrindagarna
DESCRIPTION:https://endokrindagarna.se/
URL:https://endokrinologforeningen.se/event/endokrindagarna-2/
LOCATION:Gävle
CATEGORIES:Konferens
END:VEVENT
BEGIN:VEVENT
DTSTART;VALUE=DATE:20230615
DTEND;VALUE=DATE:20230619
DTSTAMP:20260424T074332
CREATED:20221018T130901Z
LAST-MODIFIED:20221018T130921Z
UID:4936-1686787200-1687132799@endokrinologforeningen.se
SUMMARY:ENDO- Endocrine Society Annual Meeting
DESCRIPTION:Mer information: https://www.endocrine.org/meetings-and-events/endo2023
URL:https://endokrinologforeningen.se/event/endo-endocrine-society-annual-meeting-3/
LOCATION:Chicago\, USA
CATEGORIES:Konferens
END:VEVENT
BEGIN:VEVENT
DTSTART;TZID=UTC:20230915T130000
DTEND;TZID=UTC:20230915T140000
DTSTAMP:20260424T074332
CREATED:20230622T094505Z
LAST-MODIFIED:20230622T094505Z
UID:5220-1694782800-1694786400@endokrinologforeningen.se
SUMMARY:Nationellt digitalt seminarium om vårdprogram primär hyperparatyreoidism
DESCRIPTION:Inbjudan och anmälan till seminariet via: \nhttps://kunskapsstyrningvard.se/kunskapsstyrningvard/omkunskapsstyrning/evenemang/kalenderhandelse/vardprogramhyperparatyreoidism.73294.html
URL:https://endokrinologforeningen.se/event/nationellt-digitalt-seminarium-om-vardprogram-primar-hyperparatyreoidism/
CATEGORIES:Kurs
END:VEVENT
BEGIN:VEVENT
DTSTART;VALUE=DATE:20230927
DTEND;VALUE=DATE:20230930
DTSTAMP:20260424T074332
CREATED:20230127T082710Z
LAST-MODIFIED:20230428T080404Z
UID:5016-1695772800-1696031999@endokrinologforeningen.se
SUMMARY:SYED 2023
DESCRIPTION:Ämnen för mötet är: \n-Cushing \n-Akromegali \n-Könsdysfori\, hormonell behandling \n-Diabetes; HND\, dvs hjärt\, njure\, diabetes. \n-Med fokus på nya riktlinjer för behandling av typ 2 diabetes. \nAnmälning: https://www.trippus.net/syed2023
URL:https://endokrinologforeningen.se/event/syed-2023/
LOCATION:Clarion Skanstull\, Stockholm
CATEGORIES:Kurs
END:VEVENT
BEGIN:VEVENT
DTSTART;VALUE=DATE:20231016
DTEND;VALUE=DATE:20231021
DTSTAMP:20260424T074332
CREATED:20221018T130135Z
LAST-MODIFIED:20230703T071153Z
UID:4929-1697414400-1697846399@endokrinologforeningen.se
SUMMARY:Consulkurs: Tyreoidea\, kalk och skelett
DESCRIPTION:Anmälan har öppnat. \n\nDeadline för anmälan förlängd till 31 augusti 2023 -anmäl via länk ”Delta. Påmeldingslenke” \nhttps://spesialisthelsetjenesten.no/lis/kurs-for-leger-i-spesialisering/thyroideasykdommer-kalsium-og-fosfatforstyrrelser-osteoporose-andre-skjelettsykdommer-osteogenesis-imperfecta-oi-pagets-sykdom-mfl-end
URL:https://endokrinologforeningen.se/event/consulkurs-tyreoidea-kalk-och-skelett/
LOCATION:Ullevål\, Oslo
CATEGORIES:Kurs
END:VEVENT
BEGIN:VEVENT
DTSTART;VALUE=DATE:20231019
DTEND;VALUE=DATE:20231023
DTSTAMP:20260424T074332
CREATED:20230822T073242Z
LAST-MODIFIED:20230822T073242Z
UID:5243-1697673600-1698019199@endokrinologforeningen.se
SUMMARY:Endo Bridge 2023
DESCRIPTION:Program (pdf\, öppnas i nytt fönster)
URL:https://endokrinologforeningen.se/event/endo-bridge-2023/
LOCATION:Antalaya Turkey\, Antalaya\, Turkiet
CATEGORIES:Konferens
ATTACH;FMTTYPE=image/jpeg:https://endokrinologforeningen.se/wp-content/uploads/2023/08/EndoBridge-2023.jpg
END:VEVENT
BEGIN:VEVENT
DTSTART;TZID=UTC:20231020T090000
DTEND;TZID=UTC:20231020T160000
DTSTAMP:20260424T074332
CREATED:20230613T124435Z
LAST-MODIFIED:20230613T124435Z
UID:5205-1697792400-1697817600@endokrinologforeningen.se
SUMMARY:Klinisk transmedicin - en introduktion
DESCRIPTION:Om kursen \nKönsdysfori är en term som beskriver det lidande som kan uppstå när en individs könsidentitet inte är kongruent med det juridiska kön personen tilldelats vid födseln. Denna utbildning vänder sig till dig som i din yrkesutövning träffar på personer med transerfarenhet. Kursen är en bred introduktion till det transmedicinska fältet för yrkesverksamma. Målet med kursen är att du som deltagare ska erbjudas ökad kunskap och förståelse kring diagnos\, bemötande\, utredning och behandling av transpersoner som söker vård. \nTid och plats\nHeldag på distans via Zoom kl. 9-16 under följande dagar 2023:\n20 oktober\, 10 november\, 1 december och 15 december. \nMålgrupp\nYrkesverksamma kliniker som i sin yrkesutövning kan möta personer med könsinkongruens.\nhttps://utbildning.ki.se/uppdragsutbildning/kursutbud/klinisk-transmedicin-en-introduktion-ht23
URL:https://endokrinologforeningen.se/event/klinisk-transmedicin-en-introduktion/
CATEGORIES:Kurs
END:VEVENT
BEGIN:VEVENT
DTSTART;TZID=UTC:20231110T090000
DTEND;TZID=UTC:20231110T160000
DTSTAMP:20260424T074332
CREATED:20230613T124613Z
LAST-MODIFIED:20230613T124613Z
UID:5207-1699606800-1699632000@endokrinologforeningen.se
SUMMARY:Klinisk transmedicin - en introduktion
DESCRIPTION:Om kursen \nKönsdysfori är en term som beskriver det lidande som kan uppstå när en individs könsidentitet inte är kongruent med det juridiska kön personen tilldelats vid födseln. Denna utbildning vänder sig till dig som i din yrkesutövning träffar på personer med transerfarenhet. Kursen är en bred introduktion till det transmedicinska fältet för yrkesverksamma. Målet med kursen är att du som deltagare ska erbjudas ökad kunskap och förståelse kring diagnos\, bemötande\, utredning och behandling av transpersoner som söker vård. \nTid och plats\nHeldag på distans via Zoom kl. 9-16 under följande dagar 2023:\n20 oktober\, 10 november\, 1 december och 15 december. \nMålgrupp\nYrkesverksamma kliniker som i sin yrkesutövning kan möta personer med könsinkongruens.\nhttps://utbildning.ki.se/uppdragsutbildning/kursutbud/klinisk-transmedicin-en-introduktion-ht23
URL:https://endokrinologforeningen.se/event/klinisk-transmedicin-en-introduktion-2/
CATEGORIES:Kurs
END:VEVENT
BEGIN:VEVENT
DTSTART;VALUE=DATE:20231113
DTEND;VALUE=DATE:20231115
DTSTAMP:20260424T074332
CREATED:20230324T082404Z
LAST-MODIFIED:20230324T082404Z
UID:5149-1699833600-1700006399@endokrinologforeningen.se
SUMMARY:Hands-on ultraljudskurs av halsens mjukdelar inklusive tyreoidea och paratyreoidea
DESCRIPTION:https://www.gaudendo.se/ultraljudskurs \n\nAll information om kursen finns på vår hemsida (www.gaudendo.se) och man kan även ladda ner kursanmälan därifrån.
URL:https://endokrinologforeningen.se/event/hands-on-ultraljudskurs-av-halsens-mjukdelar-inklusive-tyreoidea-och-paratyreoidea/
LOCATION:Winery Hotel\, Stockholm
CATEGORIES:Kurs
END:VEVENT
BEGIN:VEVENT
DTSTART;VALUE=DATE:20231122
DTEND;VALUE=DATE:20231124
DTSTAMP:20260424T074332
CREATED:20230622T094324Z
LAST-MODIFIED:20230622T094324Z
UID:5218-1700611200-1700783999@endokrinologforeningen.se
SUMMARY:Kurs för ST-läkare i andrologi
DESCRIPTION:Svensk andrologisk förening (SAF) har nyligen haft den första kursen för ST-läkare i endokrinologi\, urologi\, allmänmedicinin och blivande reproduktionsmedicinare\, och den var mycket uppskattad. I höst håller vi den på nytt onsdag-torsdag 22-23 november\, även denna gång i Stockholm. \nMer information kommer efter sommaren.
URL:https://endokrinologforeningen.se/event/kurs-for-st-lakare-i-andrologi/
LOCATION:Stockholm\, Stockholm\, Sverige
CATEGORIES:Kurs
END:VEVENT
BEGIN:VEVENT
DTSTART;VALUE=DATE:20231130
DTEND;VALUE=DATE:20231201
DTSTAMP:20260424T074332
CREATED:20231102T090345Z
LAST-MODIFIED:20231102T090345Z
UID:5322-1701302400-1701388799@endokrinologforeningen.se
SUMMARY:Sista anmälningsdag för utbildningen till tyreoideasjuksköterska
DESCRIPTION:https://www.gu.se/medicin/studera-hos-oss/uppdragsutbildningar
URL:https://endokrinologforeningen.se/event/sista-anmalningsdag-for-utbildningen-till-tyreoideasjukskoterska/
CATEGORIES:Kurs
END:VEVENT
BEGIN:VEVENT
DTSTART;TZID=UTC:20231201T090000
DTEND;TZID=UTC:20231201T160000
DTSTAMP:20260424T074332
CREATED:20230613T124700Z
LAST-MODIFIED:20230613T124700Z
UID:5209-1701421200-1701446400@endokrinologforeningen.se
SUMMARY:Klinisk transmedicin - en introduktion
DESCRIPTION:Om kursen \nKönsdysfori är en term som beskriver det lidande som kan uppstå när en individs könsidentitet inte är kongruent med det juridiska kön personen tilldelats vid födseln. Denna utbildning vänder sig till dig som i din yrkesutövning träffar på personer med transerfarenhet. Kursen är en bred introduktion till det transmedicinska fältet för yrkesverksamma. Målet med kursen är att du som deltagare ska erbjudas ökad kunskap och förståelse kring diagnos\, bemötande\, utredning och behandling av transpersoner som söker vård. \nTid och plats\nHeldag på distans via Zoom kl. 9-16 under följande dagar 2023:\n20 oktober\, 10 november\, 1 december och 15 december. \nMålgrupp\nYrkesverksamma kliniker som i sin yrkesutövning kan möta personer med könsinkongruens.\nhttps://utbildning.ki.se/uppdragsutbildning/kursutbud/klinisk-transmedicin-en-introduktion-ht23
URL:https://endokrinologforeningen.se/event/klinisk-transmedicin-en-introduktion-3/
CATEGORIES:Kurs
END:VEVENT
BEGIN:VEVENT
DTSTART;VALUE=DATE:20231211
DTEND;VALUE=DATE:20231215
DTSTAMP:20260424T074332
CREATED:20231027T084053Z
LAST-MODIFIED:20231027T084053Z
UID:5302-1702252800-1702598399@endokrinologforeningen.se
SUMMARY:Översiktskurs i endokrinologi och diabetes
DESCRIPTION:Kursledare Jarl Hellman. LIPUS-certifikat ingår och kursens huvudfokus är ST-läkare med olika bakgrund inklusive blivande endokrinologer. \nhttps://www.uu.se/utbildning/for-yrkesverksamma/uppdragsutbildning/medicin-och-sjukvard/oversiktskurs-i-endokrinologi-och-diabetologi
URL:https://endokrinologforeningen.se/event/oversiktskurs-i-endokrinologi-och-diabetes/
LOCATION:Uppsala\, Uppsala\, Sverige
CATEGORIES:Kurs
END:VEVENT
BEGIN:VEVENT
DTSTART;TZID=UTC:20231215T090000
DTEND;TZID=UTC:20231215T160000
DTSTAMP:20260424T074332
CREATED:20230613T124745Z
LAST-MODIFIED:20230613T124745Z
UID:5211-1702630800-1702656000@endokrinologforeningen.se
SUMMARY:Klinisk transmedicin - en introduktion
DESCRIPTION:Om kursen \nKönsdysfori är en term som beskriver det lidande som kan uppstå när en individs könsidentitet inte är kongruent med det juridiska kön personen tilldelats vid födseln. Denna utbildning vänder sig till dig som i din yrkesutövning träffar på personer med transerfarenhet. Kursen är en bred introduktion till det transmedicinska fältet för yrkesverksamma. Målet med kursen är att du som deltagare ska erbjudas ökad kunskap och förståelse kring diagnos\, bemötande\, utredning och behandling av transpersoner som söker vård. \nTid och plats\nHeldag på distans via Zoom kl. 9-16 under följande dagar 2023:\n20 oktober\, 10 november\, 1 december och 15 december. \nMålgrupp\nYrkesverksamma kliniker som i sin yrkesutövning kan möta personer med könsinkongruens.\nhttps://utbildning.ki.se/uppdragsutbildning/kursutbud/klinisk-transmedicin-en-introduktion-ht23
URL:https://endokrinologforeningen.se/event/klinisk-transmedicin-en-introduktion-4/
CATEGORIES:Kurs
END:VEVENT
BEGIN:VEVENT
DTSTART;TZID=UTC:20240221T150000
DTEND;TZID=UTC:20240221T163000
DTSTAMP:20260424T074332
CREATED:20240115T085051Z
LAST-MODIFIED:20240115T102808Z
UID:5453-1708527600-1708533000@endokrinologforeningen.se
SUMMARY:Webinar\, William F. Young: Adrenal Board Review (binjure-Quiz)
DESCRIPTION:Professor William F. Young Jr.\, Mayo Clinic\, är en världsauktoritet inom endokrinologi\, framför allt binjuresjukdomar\, och en fantastisk föreläsare. \nVi erbjuder under våren två föreläsningar online för oss svenska endokrinologer. \nLänk till anmälan (öppnas i nytt fönster) \nInformation om föreläsningsserie (pdf\, öppnas i nytt fönster)
URL:https://endokrinologforeningen.se/event/adrenal-board-review-quiz-med-flervalsfragor-om-binjuresjukdomar/
CATEGORIES:Kurs
END:VEVENT
BEGIN:VEVENT
DTSTART;TZID=UTC:20240410T150000
DTEND;TZID=UTC:20240410T163000
DTSTAMP:20260424T074332
CREATED:20240115T085159Z
LAST-MODIFIED:20240115T102708Z
UID:5455-1712761200-1712766600@endokrinologforeningen.se
SUMMARY:Webinar\, William F. Young: "Thomas Addison: The Man and the Monograph"
DESCRIPTION:Professor William F. Young Jr.\, Mayo Clinic\, är en världsauktoritet inom endokrinologi\, framför allt binjuresjukdomar\, och en fantastisk föreläsare. \nVi erbjuder under våren två föreläsningar online för oss svenska endokrinologer. \nLänk till anmälan (öppnas i nytt fönster) \nInformation om föreläsningsserie (pdf\, öppnas i nytt fönster)
URL:https://endokrinologforeningen.se/event/thomas-addison-the-man-and-the-monograph/
CATEGORIES:Kurs
END:VEVENT
END:VCALENDAR