BEGIN:VCALENDAR
VERSION:2.0
PRODID:-//SEF - ECPv6.10.2//NONSGML v1.0//EN
CALSCALE:GREGORIAN
METHOD:PUBLISH
X-ORIGINAL-URL:https://endokrinologforeningen.se
X-WR-CALDESC:Händelser för SEF
REFRESH-INTERVAL;VALUE=DURATION:PT1H
X-Robots-Tag:noindex
X-PUBLISHED-TTL:PT1H
BEGIN:VTIMEZONE
TZID:UTC
BEGIN:STANDARD
TZOFFSETFROM:+0000
TZOFFSETTO:+0000
TZNAME:UTC
DTSTART:20220101T000000
END:STANDARD
END:VTIMEZONE
BEGIN:VEVENT
DTSTART;TZID=UTC:20220316T150000
DTEND;TZID=UTC:20220316T163000
DTSTAMP:20260419T223755
CREATED:20220216T161619Z
LAST-MODIFIED:20220216T161619Z
UID:4779-1647442800-1647448200@endokrinologforeningen.se
SUMMARY:Primary Aldosteronism for the Endocrinologist
DESCRIPTION:Föreläsningsserie med Professor William F. Young Jr.\nMer information och länk till anmälan \n 
URL:https://endokrinologforeningen.se/event/primary-aldosteronism-for-the-endocrinologist/
CATEGORIES:Kurs
END:VEVENT
END:VCALENDAR