BEGIN:VCALENDAR
VERSION:2.0
PRODID:-//SEF - ECPv6.10.2//NONSGML v1.0//EN
CALSCALE:GREGORIAN
METHOD:PUBLISH
X-WR-CALNAME:SEF
X-ORIGINAL-URL:https://endokrinologforeningen.se
X-WR-CALDESC:Händelser för SEF
REFRESH-INTERVAL;VALUE=DURATION:PT1H
X-Robots-Tag:noindex
X-PUBLISHED-TTL:PT1H
BEGIN:VTIMEZONE
TZID:UTC
BEGIN:STANDARD
TZOFFSETFROM:+0000
TZOFFSETTO:+0000
TZNAME:UTC
DTSTART:20200101T000000
END:STANDARD
END:VTIMEZONE
BEGIN:VEVENT
DTSTART;VALUE=DATE:20200316
DTEND;VALUE=DATE:20200321
DTSTAMP:20260423T095236
CREATED:20191211T100037Z
LAST-MODIFIED:20191211T100037Z
UID:4176-1584316800-1584748799@endokrinologforeningen.se
SUMMARY:SK-kurs: Endokrina Folksjukdomar
DESCRIPTION:https://utbildning.socialstyrelsen.se/enrol/index.php?id=789
URL:https://endokrinologforeningen.se/event/sk-kurs-endokrina-folksjukdomar/
LOCATION:Karolinska institutet\, Stockholm\, Sverige
CATEGORIES:Kurs
END:VEVENT
BEGIN:VEVENT
DTSTART;VALUE=DATE:20200319
DTEND;VALUE=DATE:20200323
DTSTAMP:20260423T095236
CREATED:20191204T095058Z
LAST-MODIFIED:20191211T121824Z
UID:4126-1584576000-1584921599@endokrinologforeningen.se
SUMMARY:26th ESE Postgraduate Training Course on Endocrinology\, Diabetes and Metabolism
DESCRIPTION:https://www.ese-hormones.org/ese-courses/26th-ese-postgraduate-training-course-on-endocrinology-diabetes-and-metabolism/
URL:https://endokrinologforeningen.se/event/10th-postgraduate-training-course-in-clinical-endocrinology/
LOCATION:Tiblisi\, Tiblisi\, Georgia
CATEGORIES:Kurs
END:VEVENT
END:VCALENDAR