BEGIN:VCALENDAR
VERSION:2.0
PRODID:-//SEF - ECPv6.10.2//NONSGML v1.0//EN
CALSCALE:GREGORIAN
METHOD:PUBLISH
X-ORIGINAL-URL:https://endokrinologforeningen.se
X-WR-CALDESC:Händelser för SEF
REFRESH-INTERVAL;VALUE=DURATION:PT1H
X-Robots-Tag:noindex
X-PUBLISHED-TTL:PT1H
BEGIN:VTIMEZONE
TZID:UTC
BEGIN:STANDARD
TZOFFSETFROM:+0000
TZOFFSETTO:+0000
TZNAME:UTC
DTSTART:20190101T000000
END:STANDARD
END:VTIMEZONE
BEGIN:VEVENT
DTSTART;VALUE=DATE:20191202
DTEND;VALUE=DATE:20191207
DTSTAMP:20260423T183335
CREATED:20181024T094326Z
LAST-MODIFIED:20181107T103603Z
UID:3808-1575244800-1575676799@endokrinologforeningen.se
SUMMARY:SK-kurs: Medfödda metabola sjukdomar hos vuxna
DESCRIPTION:https://utbildning.socialstyrelsen.se/enrol/index.php?id=668 \n 
URL:https://endokrinologforeningen.se/event/sk-kurs-medfodda-metabola-sjukdomar-hos-vuxna/
LOCATION:Karolinska institutet\, Stockholm\, Sverige
CATEGORIES:Kurs
END:VEVENT
END:VCALENDAR