BEGIN:VCALENDAR
VERSION:2.0
PRODID:-//SEF - ECPv6.10.2//NONSGML v1.0//EN
CALSCALE:GREGORIAN
METHOD:PUBLISH
X-ORIGINAL-URL:https://endokrinologforeningen.se
X-WR-CALDESC:Händelser för SEF
REFRESH-INTERVAL;VALUE=DURATION:PT1H
X-Robots-Tag:noindex
X-PUBLISHED-TTL:PT1H
BEGIN:VTIMEZONE
TZID:UTC
BEGIN:STANDARD
TZOFFSETFROM:+0000
TZOFFSETTO:+0000
TZNAME:UTC
DTSTART:20190101T000000
END:STANDARD
END:VTIMEZONE
BEGIN:VEVENT
DTSTART;VALUE=DATE:20190909
DTEND;VALUE=DATE:20190910
DTSTAMP:20260423T232312
CREATED:20181029T090852Z
LAST-MODIFIED:20181029T090852Z
UID:3816-1567987200-1568073599@endokrinologforeningen.se
SUMMARY:Omhändertagande i samband med kirurgi vid endokrina tumörer
DESCRIPTION:https://utbildning.socialstyrelsen.se/enrol/index.php?id=669
URL:https://endokrinologforeningen.se/event/omhandertagande-i-samband-med-kirurgi-vid-endokrina-tumorer/
LOCATION:Karolinska institutet\, Stockholm\, Sverige
CATEGORIES:Kurs
END:VEVENT
END:VCALENDAR