BEGIN:VCALENDAR
VERSION:2.0
PRODID:-//SEF - ECPv6.10.2//NONSGML v1.0//EN
CALSCALE:GREGORIAN
METHOD:PUBLISH
X-WR-CALNAME:SEF
X-ORIGINAL-URL:https://endokrinologforeningen.se
X-WR-CALDESC:Händelser för SEF
REFRESH-INTERVAL;VALUE=DURATION:PT1H
X-Robots-Tag:noindex
X-PUBLISHED-TTL:PT1H
BEGIN:VTIMEZONE
TZID:UTC
BEGIN:STANDARD
TZOFFSETFROM:+0000
TZOFFSETTO:+0000
TZNAME:UTC
DTSTART:20210101T000000
END:STANDARD
END:VTIMEZONE
BEGIN:VEVENT
DTSTART;VALUE=DATE:20210915
DTEND;VALUE=DATE:20210918
DTSTAMP:20260420T044254
CREATED:20210204T094208Z
LAST-MODIFIED:20210204T094208Z
UID:4495-1631664000-1631923199@endokrinologforeningen.se
SUMMARY:SYED 2021
DESCRIPTION:https://www.trippus.net/syed_2021
URL:https://endokrinologforeningen.se/event/syed-2021/
LOCATION:Lund\, Lund
CATEGORIES:Kurs
END:VEVENT
BEGIN:VEVENT
DTSTART;VALUE=DATE:20210920
DTEND;VALUE=DATE:20210925
DTSTAMP:20260420T044254
CREATED:20200910T144119Z
LAST-MODIFIED:20200910T144119Z
UID:4390-1632096000-1632527999@endokrinologforeningen.se
SUMMARY:SK-kurs: Det vanliga och det allvarliga inom endokrinologi och diabetologi
DESCRIPTION:https://sk-kurser.socialstyrelsen.se/totara/catalog/index.php?catalog_fts=endokrinologi&orderbykey=score&itemstyle=narrow
URL:https://endokrinologforeningen.se/event/sk-kurs-det-vanliga-och-det-allvarliga-inom-endokrinologi-och-diabetologi/
LOCATION:Göteborg\, Göteborg\, Sverige
CATEGORIES:Kurs
END:VEVENT
BEGIN:VEVENT
DTSTART;VALUE=DATE:20210927
DTEND;VALUE=DATE:20211002
DTSTAMP:20260420T044254
CREATED:20201105T085203Z
LAST-MODIFIED:20201105T085203Z
UID:4429-1632700800-1633132799@endokrinologforeningen.se
SUMMARY:SK-kurs: Akut endokrinologi
DESCRIPTION:https://sk-kurser.socialstyrelsen.se/enrol/index.php?id=1096
URL:https://endokrinologforeningen.se/event/sk-kurs-akut-endokrinologi-2/
LOCATION:Karolinska institutet\, Stockholm\, Sverige
CATEGORIES:Kurs
END:VEVENT
END:VCALENDAR