BEGIN:VCALENDAR
VERSION:2.0
PRODID:-//SEF - ECPv6.10.2//NONSGML v1.0//EN
CALSCALE:GREGORIAN
METHOD:PUBLISH
X-WR-CALNAME:SEF
X-ORIGINAL-URL:https://endokrinologforeningen.se
X-WR-CALDESC:Händelser för SEF
REFRESH-INTERVAL;VALUE=DURATION:PT1H
X-Robots-Tag:noindex
X-PUBLISHED-TTL:PT1H
BEGIN:VTIMEZONE
TZID:UTC
BEGIN:STANDARD
TZOFFSETFROM:+0000
TZOFFSETTO:+0000
TZNAME:UTC
DTSTART:20200101T000000
END:STANDARD
END:VTIMEZONE
BEGIN:VEVENT
DTSTART;VALUE=DATE:20200928
DTEND;VALUE=DATE:20201003
DTSTAMP:20260422T215524
CREATED:20191211T095919Z
LAST-MODIFIED:20200429T071526Z
UID:4174-1601251200-1601683199@endokrinologforeningen.se
SUMMARY:SK-kurs: Akut Endokrinologi
DESCRIPTION:https://sk-kurser.socialstyrelsen.se/enrol/index.php?id=805
URL:https://endokrinologforeningen.se/event/sk-kurs-akut-endokrinologi/
LOCATION:Karolinska institutet\, Stockholm\, Sverige
CATEGORIES:Kurs
END:VEVENT
BEGIN:VEVENT
DTSTART;VALUE=DATE:20201012
DTEND;VALUE=DATE:20201017
DTSTAMP:20260422T215524
CREATED:20191204T095352Z
LAST-MODIFIED:20200429T071640Z
UID:4134-1602460800-1602892799@endokrinologforeningen.se
SUMMARY:CONSUL-kurs Hypofys\, binjurar och gonader
DESCRIPTION:https://sk-kurser.socialstyrelsen.se/enrol/index.php?id=906
URL:https://endokrinologforeningen.se/event/consul-kurs-hypofys-binjurar-och-gonader/
LOCATION:Karolinska institutet\, Stockholm\, Sverige
CATEGORIES:Kurs
END:VEVENT
BEGIN:VEVENT
DTSTART;VALUE=DATE:20201019
DTEND;VALUE=DATE:20201023
DTSTAMP:20260422T215524
CREATED:20200429T071954Z
LAST-MODIFIED:20200429T071954Z
UID:4355-1603065600-1603411199@endokrinologforeningen.se
SUMMARY:SK-kurs: Översiktskurs i endokrinologi och diabetologi
DESCRIPTION:https://www.lipus.se/kurs/oversiktskurs-i-endokrinologi-och-diabetologi-patogenes-diagnostik-behandling-och-prevention-2/
URL:https://endokrinologforeningen.se/event/sk-kurs-oversiktskurs-i-endokrinologi-och-diabetologi/
LOCATION:Uppsala Universitet\, Uppsala\, Sverige
CATEGORIES:Kurs
END:VEVENT
END:VCALENDAR