BEGIN:VCALENDAR
VERSION:2.0
PRODID:-//SEF - ECPv6.10.2//NONSGML v1.0//EN
CALSCALE:GREGORIAN
METHOD:PUBLISH
X-ORIGINAL-URL:https://endokrinologforeningen.se
X-WR-CALDESC:Händelser för SEF
REFRESH-INTERVAL;VALUE=DURATION:PT1H
X-Robots-Tag:noindex
X-PUBLISHED-TTL:PT1H
BEGIN:VTIMEZONE
TZID:UTC
BEGIN:STANDARD
TZOFFSETFROM:+0000
TZOFFSETTO:+0000
TZNAME:UTC
DTSTART:20220101T000000
END:STANDARD
END:VTIMEZONE
BEGIN:VEVENT
DTSTART;VALUE=DATE:20220521
DTEND;VALUE=DATE:20220525
DTSTAMP:20260423T181423
CREATED:20211025T142309Z
LAST-MODIFIED:20211025T142309Z
UID:4642-1653091200-1653436799@endokrinologforeningen.se
SUMMARY:ECE- European Congress of Endocrinology
DESCRIPTION:Mer information: https://www.ese-hormones.org/events-deadlines/european-congress-of-endocrinology/ece-2022/
URL:https://endokrinologforeningen.se/event/ece-european-congress-of-endocrinology/
LOCATION:Milano\, Italien\, Milano\, Italien
CATEGORIES:Konferens
END:VEVENT
END:VCALENDAR