BEGIN:VCALENDAR
VERSION:2.0
PRODID:-//SEF - ECPv6.10.2//NONSGML v1.0//EN
CALSCALE:GREGORIAN
METHOD:PUBLISH
X-WR-CALNAME:SEF
X-ORIGINAL-URL:https://endokrinologforeningen.se
X-WR-CALDESC:Händelser för SEF
REFRESH-INTERVAL;VALUE=DURATION:PT1H
X-Robots-Tag:noindex
X-PUBLISHED-TTL:PT1H
BEGIN:VTIMEZONE
TZID:UTC
BEGIN:STANDARD
TZOFFSETFROM:+0000
TZOFFSETTO:+0000
TZNAME:UTC
DTSTART:20220101T000000
END:STANDARD
END:VTIMEZONE
BEGIN:VEVENT
DTSTART;VALUE=DATE:20220511
DTEND;VALUE=DATE:20220514
DTSTAMP:20260423T181150
CREATED:20210623T132933Z
LAST-MODIFIED:20220131T143720Z
UID:4593-1652227200-1652486399@endokrinologforeningen.se
SUMMARY:Endokrindagarna
DESCRIPTION:www.endodiabetes.se
URL:https://endokrinologforeningen.se/event/endokrindagarna/
CATEGORIES:Konferens
END:VEVENT
END:VCALENDAR