BEGIN:VCALENDAR
VERSION:2.0
PRODID:-//SEF - ECPv6.10.2//NONSGML v1.0//EN
CALSCALE:GREGORIAN
METHOD:PUBLISH
X-WR-CALNAME:SEF
X-ORIGINAL-URL:https://endokrinologforeningen.se
X-WR-CALDESC:Händelser för SEF
REFRESH-INTERVAL;VALUE=DURATION:PT1H
X-Robots-Tag:noindex
X-PUBLISHED-TTL:PT1H
BEGIN:VTIMEZONE
TZID:UTC
BEGIN:STANDARD
TZOFFSETFROM:+0000
TZOFFSETTO:+0000
TZNAME:UTC
DTSTART:20230101T000000
END:STANDARD
END:VTIMEZONE
BEGIN:VEVENT
DTSTART;VALUE=DATE:20231019
DTEND;VALUE=DATE:20231023
DTSTAMP:20260423T064326
CREATED:20230822T073242Z
LAST-MODIFIED:20230822T073242Z
UID:5243-1697673600-1698019199@endokrinologforeningen.se
SUMMARY:Endo Bridge 2023
DESCRIPTION:Program (pdf\, öppnas i nytt fönster)
URL:https://endokrinologforeningen.se/event/endo-bridge-2023/
LOCATION:Antalaya Turkey\, Antalaya\, Turkiet
CATEGORIES:Konferens
ATTACH;FMTTYPE=image/jpeg:https://endokrinologforeningen.se/wp-content/uploads/2023/08/EndoBridge-2023.jpg
END:VEVENT
END:VCALENDAR