BEGIN:VCALENDAR
VERSION:2.0
PRODID:-//SEF - ECPv6.10.2//NONSGML v1.0//EN
CALSCALE:GREGORIAN
METHOD:PUBLISH
X-WR-CALNAME:SEF
X-ORIGINAL-URL:https://endokrinologforeningen.se
X-WR-CALDESC:Händelser för SEF
REFRESH-INTERVAL;VALUE=DURATION:PT1H
X-Robots-Tag:noindex
X-PUBLISHED-TTL:PT1H
BEGIN:VTIMEZONE
TZID:UTC
BEGIN:STANDARD
TZOFFSETFROM:+0000
TZOFFSETTO:+0000
TZNAME:UTC
DTSTART:20230101T000000
END:STANDARD
END:VTIMEZONE
BEGIN:VEVENT
DTSTART;VALUE=DATE:20231016
DTEND;VALUE=DATE:20231021
DTSTAMP:20260423T064414
CREATED:20221018T130135Z
LAST-MODIFIED:20230703T071153Z
UID:4929-1697414400-1697846399@endokrinologforeningen.se
SUMMARY:Consulkurs: Tyreoidea\, kalk och skelett
DESCRIPTION:Anmälan har öppnat. \n\nDeadline för anmälan förlängd till 31 augusti 2023 -anmäl via länk ”Delta. Påmeldingslenke” \nhttps://spesialisthelsetjenesten.no/lis/kurs-for-leger-i-spesialisering/thyroideasykdommer-kalsium-og-fosfatforstyrrelser-osteoporose-andre-skjelettsykdommer-osteogenesis-imperfecta-oi-pagets-sykdom-mfl-end
URL:https://endokrinologforeningen.se/event/consulkurs-tyreoidea-kalk-och-skelett/
LOCATION:Ullevål\, Oslo
CATEGORIES:Kurs
END:VEVENT
BEGIN:VEVENT
DTSTART;VALUE=DATE:20231019
DTEND;VALUE=DATE:20231023
DTSTAMP:20260423T064414
CREATED:20230822T073242Z
LAST-MODIFIED:20230822T073242Z
UID:5243-1697673600-1698019199@endokrinologforeningen.se
SUMMARY:Endo Bridge 2023
DESCRIPTION:Program (pdf\, öppnas i nytt fönster)
URL:https://endokrinologforeningen.se/event/endo-bridge-2023/
LOCATION:Antalaya Turkey\, Antalaya\, Turkiet
CATEGORIES:Konferens
ATTACH;FMTTYPE=image/jpeg:https://endokrinologforeningen.se/wp-content/uploads/2023/08/EndoBridge-2023.jpg
END:VEVENT
BEGIN:VEVENT
DTSTART;TZID=UTC:20231020T090000
DTEND;TZID=UTC:20231020T160000
DTSTAMP:20260423T064414
CREATED:20230613T124435Z
LAST-MODIFIED:20230613T124435Z
UID:5205-1697792400-1697817600@endokrinologforeningen.se
SUMMARY:Klinisk transmedicin - en introduktion
DESCRIPTION:Om kursen \nKönsdysfori är en term som beskriver det lidande som kan uppstå när en individs könsidentitet inte är kongruent med det juridiska kön personen tilldelats vid födseln. Denna utbildning vänder sig till dig som i din yrkesutövning träffar på personer med transerfarenhet. Kursen är en bred introduktion till det transmedicinska fältet för yrkesverksamma. Målet med kursen är att du som deltagare ska erbjudas ökad kunskap och förståelse kring diagnos\, bemötande\, utredning och behandling av transpersoner som söker vård. \nTid och plats\nHeldag på distans via Zoom kl. 9-16 under följande dagar 2023:\n20 oktober\, 10 november\, 1 december och 15 december. \nMålgrupp\nYrkesverksamma kliniker som i sin yrkesutövning kan möta personer med könsinkongruens.\nhttps://utbildning.ki.se/uppdragsutbildning/kursutbud/klinisk-transmedicin-en-introduktion-ht23
URL:https://endokrinologforeningen.se/event/klinisk-transmedicin-en-introduktion/
CATEGORIES:Kurs
END:VEVENT
END:VCALENDAR